BEGIN:VCALENDAR
VERSION:2.0
PRODID:-//wp-events-plugin.com//7.2.3.1//EN
TZID:America/Chicago
X-WR-TIMEZONE:America/Chicago
BEGIN:VEVENT
UID:2302@dev.dscc.uic.edu
DTSTART;TZID=America/Chicago;VALUE=DATE:20220703
DTEND;TZID=America/Chicago;VALUE=DATE:20220704
DTSTAMP:20220428T140325Z
URL:https://dev.dscc.uic.edu/events/2022-camp-lions-of-illinois-youth-week
 -in-northern-illinois/
SUMMARY:2022 Camp Lions of Illinois - Youth Week in Northern Illinois
DESCRIPTION:Free summer camp for youth ages 7 - 17 with vision or hearing l
 oss\n\nCamp Lions of Illinois is hosting "Youth Week" from July 3 to 9 at 
 Camp Reynoldswood\, 621 Reynoldswood Road\, in Dixon.\n\nCampers will chec
 k in on July 3 from 2 - 4 p.m. Check-out will be on July 9 from 9 - 11 a.m
 .\n\nCamp Lions provides eligible youth with vision and/or hearing loss a 
 camping experience filled with fun\, challenging activities and an opportu
 nity to make new friends with peers of similar abilities. Camp activities 
 focus on building campers' self-confidence\, knowledge\, independence\, le
 adership and creativity through recreational experiences geared to individ
 ual abilities.\n\nCampers enjoy swimming\, canoeing\, team sports\, archer
 y\, fishing\, horseback riding\, cookouts\, crafts and nature programs. Ev
 ery session offers new opportunities to explore new skills.\n\nEvery cabin
  is one level and has a modern bathroom with a walk-in shower.\n\nYouth We
 ek is for campers ages 7 - 17 with vision and/or hearing loss.\n\nVisit th
 e Camp Lions website for more information and to register.  You may also 
 email camplions@lifnd.org or visit the Camp Lions Facebook page.
CATEGORIES:Camp
LOCATION:Camp Reynoldswood\, 621 Reynoldswood Road\, Dixon\, IL \, United S
 tates
X-APPLE-STRUCTURED-LOCATION;VALUE=URI;X-ADDRESS=621 Reynoldswood Road\, Dix
 on\, IL \, United States;X-APPLE-RADIUS=100;X-TITLE=Camp Reynoldswood:geo:
 0,0
END:VEVENT
BEGIN:VTIMEZONE
TZID:America/Chicago
X-LIC-LOCATION:America/Chicago
BEGIN:DAYLIGHT
DTSTART:20220313T030000
TZOFFSETFROM:-0600
TZOFFSETTO:-0500
TZNAME:CDT
END:DAYLIGHT
END:VTIMEZONE
END:VCALENDAR