BEGIN:VCALENDAR
VERSION:2.0
PRODID:-//wp-events-plugin.com//7.2.3.1//EN
TZID:America/Chicago
X-WR-TIMEZONE:America/Chicago
BEGIN:VEVENT
UID:3111@dev.dscc.uic.edu
DTSTART;TZID=America/Chicago;VALUE=DATE:20230625
DTEND;TZID=America/Chicago;VALUE=DATE:20230626
DTSTAMP:20230317T183234Z
URL:https://dev.dscc.uic.edu/events/2023-camp-lions-of-illinois-youth-week
 -in-northern-illinois/
SUMMARY:2023 Camp Lions of Illinois - Youth Week in Northern Illinois
DESCRIPTION:Free summer camp for youth ages 7 to 17 with vision or hearing 
 loss\n\nCamp Lions of Illinois is hosting "Youth Week" from June 25 to Jul
 y 1. Check-in is Sunday from 2 to 4 p.m. Check-out is Saturday from 9 to 1
 1 a.m.\n\nThe location is Camp Red Leaf\, 26710 W. Nippersink Road\, in In
 gleside.\n\nCamp Lions provides eligible youth with vision and/or hearing 
 loss a camping experience filled with fun\, challenging activities and an 
 opportunity to make new friends with peers of similar abilities.\n\nCamp a
 ctivities will focus on building campers' self-confidence\, independence\,
  leadership and creativity. Campers will enjoy:\n\n 	Swimming and water sp
 orts\n 	Fishing\n 	Ga-ga ball\, beeper and baseball\n 	Archery\n 	Arts and
  crafts\n 	Described/captioned movies\n 	Trail riding\n\nCabins have showe
 rs and washrooms in the same building.\n\nGet the 2023 Youth Camper applic
 ation online.  The deadline to apply is May 15. All applications are sub
 ject to approval.\n\nVisit the Camp Lions website for more details on all 
 Camp Lions of Illinois adult and youth camps.\n\nYou may also contact Camp
  Lions at (815) 756-5633 or (TTY) (815) 748-9088 or visit the Camp Lions F
 acebook page.
CATEGORIES:Camp
LOCATION:Camp Red Leaf\, 26710 W. Nippersink Road\, Ingleside\, IL\, United
  States
GEO:42.3571518;-88.15093939999997
X-APPLE-STRUCTURED-LOCATION;VALUE=URI;X-ADDRESS=26710 W. Nippersink Road\, 
 Ingleside\, IL\, United States;X-APPLE-RADIUS=100;X-TITLE=Camp Red Leaf:ge
 o:42.3571518,-88.15093939999997
END:VEVENT
BEGIN:VTIMEZONE
TZID:America/Chicago
X-LIC-LOCATION:America/Chicago
BEGIN:DAYLIGHT
DTSTART:20230312T030000
TZOFFSETFROM:-0600
TZOFFSETTO:-0500
TZNAME:CDT
END:DAYLIGHT
END:VTIMEZONE
END:VCALENDAR