BEGIN:VCALENDAR
VERSION:2.0
PRODID:-//wp-events-plugin.com//7.2.3.1//EN
TZID:America/Chicago
X-WR-TIMEZONE:America/Chicago
BEGIN:VEVENT
UID:4383@dev.dscc.uic.edu
DTSTART;TZID=America/Chicago:20240807T110000
DTEND;TZID=America/Chicago:20240807T180000
DTSTAMP:20240523T161929Z
URL:https://dev.dscc.uic.edu/events/2024-dupage-county-back-to-school-fair
 -and-dental-clinic/
SUMMARY:2024 DuPage County Back-to-School Fair and Dental Clinic
DESCRIPTION:A free\, drive-thru back-to-school fair providing school suppli
 es and services for low-income families in DuPage County\n\nCatholic Chari
 ties Diocese of Joliet is hosting the 2024 DuPage County Back-to-School Fa
 ir on Aug. 7 from 11 a.m. to 6 p.m.\n\nThis drive-thru event will provide 
 backpacks and school supplies to help prepare children from low-income hou
 seholds for a new school year.\n\nDuPage County Dental Health Services wil
 l also provide a special dental clinic for back-to-school fair participant
 s.\n\nSee the DuPage County Back-to-School Fair flyer in English and Spani
 sh for more details.\n\nRegister for the fair online. You must register to
  participate. Space is limited.\n\nTo make an appointment for the dental c
 linic\, call (630) 682-7400.\n\nFor help or questions\, contact Joy Newbur
 n at jnewburn@cc-doj.org.
CATEGORIES:Resource Fair
LOCATION:DuPage County Fairgrounds\, 2015 Manchester Road\, Wheaton\, IL\, 
 United States
X-APPLE-STRUCTURED-LOCATION;VALUE=URI;X-ADDRESS=2015 Manchester Road\, Whea
 ton\, IL\, United States;X-APPLE-RADIUS=100;X-TITLE=DuPage County Fairgrou
 nds:geo:0,0
END:VEVENT
BEGIN:VTIMEZONE
TZID:America/Chicago
X-LIC-LOCATION:America/Chicago
BEGIN:DAYLIGHT
DTSTART:20240310T030000
TZOFFSETFROM:-0600
TZOFFSETTO:-0500
TZNAME:CDT
END:DAYLIGHT
END:VTIMEZONE
END:VCALENDAR