BEGIN:VCALENDAR
VERSION:2.0
PRODID:-//wp-events-plugin.com//7.2.3.1//EN
TZID:America/Chicago
X-WR-TIMEZONE:America/Chicago
BEGIN:VEVENT
UID:635@dev.dscc.uic.edu
DTSTART;TZID=America/Chicago:20170428T080000
DTEND;TZID=America/Chicago:20170428T160000
DTSTAMP:20170223T194611Z
URL:https://dev.dscc.uic.edu/events/abc-d-conference-in-ofallon/
SUMMARY:ABC-D Conference in O'Fallon
DESCRIPTION:Learn about the social determinants of caring for children and 
 families with special needs.\n\nThe third annual Autism\, Behavior and Com
 plex Medical Needs - Downstate (ABC-D) Conference is scheduled for April 2
 8 at the Regency Conference Center in O'Fallon.\n\nThe conference will de
 liver valuable information about social determinants of health in order to
  enable providers across many disciplines to recognize and address these d
 eterminants when caring for children and families with special healthcare 
 needs\, including those impacted by trauma and adverse childhood experienc
 es.\n\nThe event - hosted by the Illinois Chapter\, American Academy of Pe
 diatrics - is intended for primary care providers and their teams\, incl
 uding pediatricians\, family physicians\, nurse practitioners\, physician 
 assistants\, residents\, fellows\, medical students and allied health care
  professionals.  In addition\, providers from other settings including ch
 ild care\, early education\, home visiting and more are encouraged to atte
 nd.\n\nFore more information and to register\, click here.\n\n&nbsp\;
CATEGORIES:Conference
LOCATION:Regency Conference Center\, 400 Regency Park Drive\, O'Fallon\, Il
 linois\, 62269\, United States
GEO:38.5581115;-89.89770520000002
X-APPLE-STRUCTURED-LOCATION;VALUE=URI;X-ADDRESS=400 Regency Park Drive\, O'
 Fallon\, Illinois\, 62269\, United States;X-APPLE-RADIUS=100;X-TITLE=Regen
 cy Conference Center:geo:38.5581115,-89.89770520000002
END:VEVENT
BEGIN:VTIMEZONE
TZID:America/Chicago
X-LIC-LOCATION:America/Chicago
BEGIN:DAYLIGHT
DTSTART:20170312T030000
TZOFFSETFROM:-0600
TZOFFSETTO:-0500
TZNAME:CDT
END:DAYLIGHT
END:VTIMEZONE
END:VCALENDAR