BEGIN:VCALENDAR
VERSION:2.0
PRODID:-//wp-events-plugin.com//7.2.3.1//EN
TZID:America/Chicago
X-WR-TIMEZONE:America/Chicago
BEGIN:VEVENT
UID:1609@dev.dscc.uic.edu
DTSTART;TZID=America/Chicago;VALUE=DATE:20201120
DTEND;TZID=America/Chicago;VALUE=DATE:20201123
DTSTAMP:20201005T212905Z
URL:https://dev.dscc.uic.edu/events/abilities-virtual-experience-2/
SUMMARY:Abilities Virtual Experience 2
DESCRIPTION:&nbsp\;\n\nA free virtual event on disability-focused resources
 .\n\nThe Abilities Virtual Experience 2 is a free\, three-day online confe
 rence that features workshops\, adaptive activities and disability-focused
  resources.\n\nHost Paul Amadeus Lane will conduct live interviews with CE
 Os\, celebrities and other movers and shakers in the disability community.
 \n\nAli Stroker\, the first wheelchair user to win a Tony Award\, and Chel
 sie Hill\, founder of the world-famous Rollettes\, will talk about their e
 xperiences\, challenges and how they are making their dreams happen. Lex F
 rieden\, one of the chief architects of the Americans with Disabilities Ac
 t will talk about his experiences crafting the legislation.\n\nParticipant
 s will also be able to see live product demonstrations and find products a
 nd services to help boost independence.\n\nThe event will also feature inf
 ormative virtual workshops with live question-and-answer sessions and adap
 tive online activities\, such as wheelchair dance tutorials\, adaptive fit
 ness\, service dog demonstrations and more.\n\nVisit the Abilities Virtual
  Experience 2 website to learn more and to sign up.
CATEGORIES:Conference,Special Event
END:VEVENT
BEGIN:VTIMEZONE
TZID:America/Chicago
X-LIC-LOCATION:America/Chicago
BEGIN:STANDARD
DTSTART:20201101T010000
TZOFFSETFROM:-0500
TZOFFSETTO:-0600
TZNAME:CST
END:STANDARD
END:VTIMEZONE
END:VCALENDAR