BEGIN:VCALENDAR
VERSION:2.0
PRODID:-//wp-events-plugin.com//7.2.3.1//EN
TZID:America/Chicago
X-WR-TIMEZONE:America/Chicago
BEGIN:VEVENT
UID:651@dev.dscc.uic.edu
DTSTART;TZID=America/Chicago:20170604T084500
DTEND;TZID=America/Chicago:20170604T084500
DTSTAMP:20170420T202250Z
URL:https://dev.dscc.uic.edu/events/aid-color-burst-5k-fun-run-roll/
SUMMARY:AID Color Burst 5k Fun Run & Roll
DESCRIPTION:Runners\, walkers and wheelchair riders will be blasted with co
 lors in this family-friendly event.\n\nThe Association for Individual Deve
 lopment (AID) aims to empower people with physical\, developmental\, intel
 lectual and mental health challenges to enjoy lives of dignity and purpose
 . The "Fun Run &amp\; Roll" will benefit AID and the 5\,200 clients it ser
 ves.\n\nA discounted registration fee is available through May 3. A family
  rate is also available. Children 5 and under can run/walk/roll for free.\
 n\nFor more information and to register\, click here.\n\n&nbsp\;
CATEGORIES:Special Event
LOCATION:AID Main Campus\, 309 New Indian Trail Court \, Aurora\, IL\, 6050
 6 \, United States
GEO:41.783273;-88.32225349999999
X-APPLE-STRUCTURED-LOCATION;VALUE=URI;X-ADDRESS=309 New Indian Trail Court 
 \, Aurora\, IL\, 60506 \, United States;X-APPLE-RADIUS=100;X-TITLE=AID Mai
 n Campus:geo:41.783273,-88.32225349999999
END:VEVENT
BEGIN:VTIMEZONE
TZID:America/Chicago
X-LIC-LOCATION:America/Chicago
BEGIN:DAYLIGHT
DTSTART:20170312T030000
TZOFFSETFROM:-0600
TZOFFSETTO:-0500
TZNAME:CDT
END:DAYLIGHT
END:VTIMEZONE
END:VCALENDAR