BEGIN:VCALENDAR
VERSION:2.0
PRODID:-//wp-events-plugin.com//7.2.3.1//EN
TZID:America/Chicago
X-WR-TIMEZONE:America/Chicago
BEGIN:VEVENT
UID:2189@dev.dscc.uic.edu
DTSTART;TZID=America/Chicago:20220314T180000
DTEND;TZID=America/Chicago:20220314T193000
DTSTAMP:20220314T183438Z
URL:https://dev.dscc.uic.edu/events/al-grupo-de-apoyo-para-cuidadores-en-e
 spanol-spanish-caregiver-support-group/
SUMMARY:Al Grupo de Apoyo para Cuidadores en Español / Spanish Caregiver S
 upport Group
DESCRIPTION:&nbsp\;\n\nA monthly\, virtual meeting for Spanish-speaking car
 egivers of individuals with developmental and intellectual disabilities\n\
 nYou are invited to join Options &amp\; Advocacy for a Spanish Caregiver S
 upport Group meeting on March 14 from 6 - 7:30 p.m.  This group meets via
  Zoom on the second Monday of each month through May.\n\nThis Spanish Care
 giver Support Group is facilitated by Otto Corzo and is open to all Spanis
 h-speaking caregivers of individuals with developmental and intellectual d
 isabilities.\n\nGet the group flyer.\n\nRegister to join the support group
  meeting here.\n\nYou may also get more information or register by contact
 ing Alina Valadez at alina.valadez@opad.org.\n\n\n\nAl Grupo de Apoyo para
  Cuidadores en Español\n\nCuando: 14 de Marzo del 2022 de 6:00pm a 7:30pm
  por zoom.\n\nRecibirá un correo electrónico de confirmación con el enl
 ace de zoom después del registro.\n\nRegister here.\n\n&nbsp\;\n\n&nbsp\;
CATEGORIES:Support Group
END:VEVENT
BEGIN:VTIMEZONE
TZID:America/Chicago
X-LIC-LOCATION:America/Chicago
BEGIN:DAYLIGHT
DTSTART:20220313T030000
TZOFFSETFROM:-0600
TZOFFSETTO:-0500
TZNAME:CDT
END:DAYLIGHT
END:VTIMEZONE
END:VCALENDAR