BEGIN:VCALENDAR
VERSION:2.0
PRODID:-//wp-events-plugin.com//7.2.3.1//EN
TZID:America/Chicago
X-WR-TIMEZONE:America/Chicago
BEGIN:VEVENT
UID:1098@dev.dscc.uic.edu
DTSTART;TZID=America/Chicago:20180811T090000
DTEND;TZID=America/Chicago:20180811T140000
DTSTAMP:20180807T211352Z
URL:https://dev.dscc.uic.edu/events/auroras-back-to-school-fair/
SUMMARY:Aurora's Back to School Fair
DESCRIPTION:Free backpack with school supplies\, mobile health clinic and 
 new and gently-used school clothes.\n\nAurora's Back to School Fair is sch
 eduled for Aug. 11 at John R. Harkness Center.\n\nChildren will be able to
  receive a free backpack with school supplies.\n\nThe fair will feature re
 presentatives from:\n\n 	UIC's Division of Specialized Care for Children\n
  	Social service organizations\n 	Governmental agencies\n 	Local school di
 stricts\n 	Medical and dental care providers.\n\nThe Visiting Nurse Associ
 ation will be on site with the mobile health clinic for school physicals. 
 Word and Worship Christian Church will provide a free clothes closet that 
 includes school uniforms and new and gently-used clothes and shoes. Aurora
  Children's Dental Service and Miles of Smiles will provide dental exams.\
 n\nFood and entertainment will also be available.\n\nTo be eligible to par
 ticipate\, you must bring:\n\n 	An Aurora utility bill\n 	Proof of income:
  TANF\, SNAP or check stubs\n 	Driver's license\, state identification\, M
 atricula Consular\n\n&nbsp\;\n\n&nbsp\;
CATEGORIES:Health Fair
LOCATION:John R. Harkness Center\, 60 S. Fourth St.\, Aurora\, IL \, United
  States
GEO:41.7538518;-88.31072419999998
X-APPLE-STRUCTURED-LOCATION;VALUE=URI;X-ADDRESS=60 S. Fourth St.\, Aurora\,
  IL \, United States;X-APPLE-RADIUS=100;X-TITLE=John R. Harkness Center:ge
 o:41.7538518,-88.31072419999998
END:VEVENT
BEGIN:VTIMEZONE
TZID:America/Chicago
X-LIC-LOCATION:America/Chicago
BEGIN:DAYLIGHT
DTSTART:20180311T030000
TZOFFSETFROM:-0600
TZOFFSETTO:-0500
TZNAME:CDT
END:DAYLIGHT
END:VTIMEZONE
END:VCALENDAR