BEGIN:VCALENDAR
VERSION:2.0
PRODID:-//wp-events-plugin.com//7.2.3.1//EN
TZID:America/Chicago
X-WR-TIMEZONE:America/Chicago
BEGIN:VEVENT
UID:1096@dev.dscc.uic.edu
DTSTART;TZID=America/Chicago:20180807T080000
DTEND;TZID=America/Chicago:20180807T140000
DTSTAMP:20180803T143426Z
URL:https://dev.dscc.uic.edu/events/back-to-school-health-clinics-in-sprin
 gfield-on-aug-7-11-and-28/
SUMMARY:Back-to-School Health Clinics in Springfield on Aug. 7\, 11 and 28
DESCRIPTION:&nbsp\;\n\nRoutine vaccinations and free back-to-school physica
 ls.\n\nCan't make it to your child's doctor before school starts? Springfi
 eld Public Schools District 186 is hosting a series of back-to-school heal
 th clinics throughout Springfield.\n\nRoutine vaccinations and free back-t
 o-school physicals will be available.\n\nThe clinic schedule is:\n\n 	Tues
 day\, Aug. 7\n\n 	8 a.m. to 2 p.m. at Washington Middle School\n 	8 a.m. t
 o 2 p.m. at Grant Middle School\n\n\n 	Saturday\, Aug. 11\n\n 	9 a.m. to n
 oon\, Springfield High School\n\n\n 	Tuesday\, Aug. 28*\n\n 	9 a.m. to 5 p
 .m.\, Sangamon County Department of Public Health\n 	By appointment only. 
 Call (217) 535-3102.\n\n\n
CATEGORIES:Clinic
END:VEVENT
BEGIN:VTIMEZONE
TZID:America/Chicago
X-LIC-LOCATION:America/Chicago
BEGIN:DAYLIGHT
DTSTART:20180311T030000
TZOFFSETFROM:-0600
TZOFFSETTO:-0500
TZNAME:CDT
END:DAYLIGHT
END:VTIMEZONE
END:VCALENDAR