BEGIN:VCALENDAR
VERSION:2.0
PRODID:-//wp-events-plugin.com//7.2.3.1//EN
TZID:America/Chicago
X-WR-TIMEZONE:America/Chicago
BEGIN:VEVENT
UID:645@dev.dscc.uic.edu
DTSTART;TZID=America/Chicago:20170425T170000
DTEND;TZID=America/Chicago:20170425T190000
DTSTAMP:20170418T213529Z
URL:https://dev.dscc.uic.edu/events/be-a-prepared-parent-event-in-rockford
 /
SUMMARY:"Be a Prepared Parent" Event  in Rockford
DESCRIPTION:Learn how to advocate for your child's special education rights
 .\n\nMelanie Grant from Equip for Equality will help attendees increase th
 eir knowledge and understanding on:\n\n 	Basic special education laws\n 	R
 equesting your child's records\n 	Requesting an IEP meeting\n 	Understandi
 ng evaluations from the school\n 	Resolving problems with the individualiz
 ed education program team\n\nRegistration is required by calling (815) 395
 -5566 or emailing tap.rockford@eastersealschicago.org by April 22.
CATEGORIES:Education
LOCATION:University of Illinois Rockford\, Room S232\, 1601 Parkview Ave.\,
  Rockford\, IL\, 61107\, United States
GEO:42.2839863;-89.0549795
X-APPLE-STRUCTURED-LOCATION;VALUE=URI;X-ADDRESS=1601 Parkview Ave.\, Rockfo
 rd\, IL\, 61107\, United States;X-APPLE-RADIUS=100;X-TITLE=University of I
 llinois Rockford\, Room S232:geo:42.2839863,-89.0549795
END:VEVENT
BEGIN:VTIMEZONE
TZID:America/Chicago
X-LIC-LOCATION:America/Chicago
BEGIN:DAYLIGHT
DTSTART:20170312T030000
TZOFFSETFROM:-0600
TZOFFSETTO:-0500
TZNAME:CDT
END:DAYLIGHT
END:VTIMEZONE
END:VCALENDAR