BEGIN:VCALENDAR
VERSION:2.0
PRODID:-//wp-events-plugin.com//7.2.3.1//EN
TZID:America/Chicago
X-WR-TIMEZONE:America/Chicago
BEGIN:VEVENT
UID:1169@dev.dscc.uic.edu
DTSTART;TZID=America/Chicago:20181216T113000
DTEND;TZID=America/Chicago:20181216T140000
DTSTAMP:20181129T151550Z
URL:https://dev.dscc.uic.edu/events/breakfast-with-mr-mrs-deaf-santa-claus
 -in-chicago/
SUMMARY:Breakfast with Mr. & Mrs. Deaf Santa Claus in Chicago
DESCRIPTION:Open to youth 12 and under with all types of hearing loss and 
 children of deaf or hard-of-hearing parents.\n\nThe Chicago Park District 
 presents Breakfast with Mr. and Mrs. Deaf Santa Claus on Dec. 16 at Archer
  Park.\n\nThe event is open to all children 12 and under who have all type
 s of hearing loss as well as their hearing siblings. Hearing children of d
 eaf or hard-of-hearing parents are also invited to attend.\n\nThe cost is 
 $5 per person\, with free admission for children 5 and under. Only cash is
  accepted.\n\nFor more information about Breakfast with Santa\, please con
 tact Sarah B. Faber at sarah.faber@chicagoparkdistrict.com or Tim Owens a
 t timothy.owens@chicagoparkdistrict.com.
CATEGORIES:Special Event
LOCATION:Archer Park\, 4901 S. Kilbourn Ave.\, Chicago\, IL \, United State
 s
GEO:41.8039647;-87.73562770000001
X-APPLE-STRUCTURED-LOCATION;VALUE=URI;X-ADDRESS=4901 S. Kilbourn Ave.\, Chi
 cago\, IL \, United States;X-APPLE-RADIUS=100;X-TITLE=Archer Park:geo:41.8
 039647,-87.73562770000001
END:VEVENT
BEGIN:VTIMEZONE
TZID:America/Chicago
X-LIC-LOCATION:America/Chicago
BEGIN:STANDARD
DTSTART:20181104T010000
TZOFFSETFROM:-0500
TZOFFSETTO:-0600
TZNAME:CST
END:STANDARD
END:VTIMEZONE
END:VCALENDAR