BEGIN:VCALENDAR
VERSION:2.0
PRODID:-//wp-events-plugin.com//7.2.3.1//EN
TZID:America/Chicago
X-WR-TIMEZONE:America/Chicago
BEGIN:VEVENT
UID:329@dev.dscc.uic.edu
DTSTART;TZID=America/Chicago:20150608T083000
DTEND;TZID=America/Chicago:20150608T120000
DTSTAMP:20150313T192329Z
URL:https://dev.dscc.uic.edu/events/camp-aspire/
SUMMARY:Camp Aspire
DESCRIPTION:Created to help children with autism develop missing or inadeq
 uate communication skills.\n\nThis 6 week long\, half-day Summer camp is f
 or children 6-16 years old. The camp's goal is to build friendships and de
 velop relationship skills through instruction\, inclusion\, and peer mento
 rs.Programming is based on Applied Behavioral Analysis and an individualiz
 ed treatment plan is developed for each camper.\n\nCamp is held Monday-Thu
 rsday from 8:30am - 12:00pm beginning June 8th and running through July 16
 th.\n\nFor more information or to apply\, visit the Camp Aspire webpage.
CATEGORIES:Camp
LOCATION:Camp Aspire\, 5200 S. 6th Street Frontage Road\, Springfield\, Ill
 inois\, United States
GEO:39.7476809;-89.64486999999997
X-APPLE-STRUCTURED-LOCATION;VALUE=URI;X-ADDRESS=5200 S. 6th Street Frontage
  Road\, Springfield\, Illinois\, United States;X-APPLE-RADIUS=100;X-TITLE=
 Camp Aspire:geo:39.7476809,-89.64486999999997
END:VEVENT
BEGIN:VTIMEZONE
TZID:America/Chicago
X-LIC-LOCATION:America/Chicago
BEGIN:DAYLIGHT
DTSTART:20150308T030000
TZOFFSETFROM:-0600
TZOFFSETTO:-0500
TZNAME:CDT
END:DAYLIGHT
END:VTIMEZONE
END:VCALENDAR