BEGIN:VCALENDAR
VERSION:2.0
PRODID:-//wp-events-plugin.com//7.2.3.1//EN
TZID:America/Chicago
X-WR-TIMEZONE:America/Chicago
BEGIN:VEVENT
UID:5177@dev.dscc.uic.edu
DTSTART;TZID=America/Chicago;VALUE=DATE:20250906
DTEND;TZID=America/Chicago;VALUE=DATE:20250907
DTSTAMP:20250808T132414Z
URL:https://dev.dscc.uic.edu/events/camp-beta-2025-in-makanda/
SUMMARY:Camp BETA 2025 in Makanda
DESCRIPTION:A free overnight camp for children ages 10 to 16 with Type 1 di
 abetes\nCamp BETA will be on Sept. 6-7. Campers will arrive at 9 a.m. on S
 ept. 6 and leave on Sept. 7 at 2 p.m.\nCamp Beta is a free overnight camp 
 for youth ages 10 to 16 with Type 1 diabetes. Opportunities are also avail
 able for counselors-in-training for youth ages 16 to 17 with diabetes.\nCa
 mpers can build confidence\, make new friends and enjoy:\n\nHiking and ori
 enteering\nBoating\nArts and crafts\nArchery\nHorseback riding\nClimbing w
 all\n\nThe camp is made possible by a collaboration of Southern Illinois H
 ealthcare\, the Diabetes Today Resource Team\, the SIU Touch of Nature Env
 ironmental Center\, the SIU Dietetic Internship program\, and many area vo
 lunteers and civic organizations.\nRegister for Camp Beta online and find 
 more information about diabetes support.\n
CATEGORIES:Camp
LOCATION:SIU Touch of Nature Environmental Center\, 1206 Touch of Nature Ro
 ad\, Makanda\, Illinois\, 62958\, United States
GEO:37.6286416;-89.1624842
X-APPLE-STRUCTURED-LOCATION;VALUE=URI;X-ADDRESS=1206 Touch of Nature Road\,
  Makanda\, Illinois\, 62958\, United States;X-APPLE-RADIUS=100;X-TITLE=SIU
  Touch of Nature Environmental Center:geo:37.6286416,-89.1624842
END:VEVENT
BEGIN:VTIMEZONE
TZID:America/Chicago
X-LIC-LOCATION:America/Chicago
BEGIN:DAYLIGHT
DTSTART:20250309T030000
TZOFFSETFROM:-0600
TZOFFSETTO:-0500
TZNAME:CDT
END:DAYLIGHT
END:VTIMEZONE
END:VCALENDAR