BEGIN:VCALENDAR
VERSION:2.0
PRODID:-//wp-events-plugin.com//7.2.3.1//EN
TZID:America/Chicago
X-WR-TIMEZONE:America/Chicago
BEGIN:VEVENT
UID:674@dev.dscc.uic.edu
DTSTART;TZID=America/Chicago:20170723T080000
DTEND;TZID=America/Chicago:20170723T080000
DTSTAMP:20170725T151219Z
URL:https://dev.dscc.uic.edu/events/camp-independence-session-7/
SUMMARY:YMCA Camp Independence of Metro Chicago Session 7
DESCRIPTION:Overnight camp for youth with spina bifida ages 14-19.\n\nCamp 
 Independence is run by the YMCA of Metro Chicago in association with the 
 Illinois Spina Bifida Association. It is an overnight camp designed especi
 ally for people with spina bifida\, age 7 through adult. Campers are encou
 raged to learn self-care skills\, develop new friendships and try new adap
 tive sports. Parents and campers have reported improvements in campers’ 
 goal attainment\, management of health-related self-care and independence.
 \n\nSession 7 is for youth ages 14-19. It is scheduled for July 23-29.\n\
 nClick here for registration information.
CATEGORIES:Camp
LOCATION:Camp Independence\, 32405 N. US Highway 12\, Ingleside\, IL\, Unit
 ed States
GEO:42.3725198;-88.16967999999997
X-APPLE-STRUCTURED-LOCATION;VALUE=URI;X-ADDRESS=32405 N. US Highway 12\, In
 gleside\, IL\, United States;X-APPLE-RADIUS=100;X-TITLE=Camp Independence:
 geo:42.3725198,-88.16967999999997
END:VEVENT
BEGIN:VTIMEZONE
TZID:America/Chicago
X-LIC-LOCATION:America/Chicago
BEGIN:DAYLIGHT
DTSTART:20170312T030000
TZOFFSETFROM:-0600
TZOFFSETTO:-0500
TZNAME:CDT
END:DAYLIGHT
END:VTIMEZONE
END:VCALENDAR