BEGIN:VCALENDAR
VERSION:2.0
PRODID:-//wp-events-plugin.com//7.2.3.1//EN
TZID:America/Chicago
X-WR-TIMEZONE:America/Chicago
BEGIN:VEVENT
UID:1245@dev.dscc.uic.edu
DTSTART;TZID=America/Chicago;VALUE=DATE:20190616
DTEND;TZID=America/Chicago;VALUE=DATE:20190617
DTSTAMP:20190409T154445Z
URL:https://dev.dscc.uic.edu/events/camp-lions-helen-keller-for-adults/
SUMMARY:Camp Lions Helen Keller for Adults
DESCRIPTION:Free summer camp for eligible deaf and blind  adults ages 18 a
 nd older.\n\nEligible adults have the opportunity to relax and participate
  in activities in the great outdoors while still being in an accessible en
 vironment.\n\nCamp Lions Helen Keller is a great place to meet other indiv
 iduals with similar life experiences. The camp is scheduled for June 16-21
  at Camp Reynoldswood in Dixon.\n\nActivities at Camp Lions Helen Keller a
 re geared to adult participants. They include swimming\, nature walks\, te
 am sports\, card and board games\, arts and crafts\, a talent show and dan
 ce.\n\nFor more information and to register\, visit https://lionsofillinoi
 sfoundation.org/camp-lions.html You may also email camplions@lifnd.org or
  visit their the Camp Lions Facebook page.\n\n&nbsp\;\n\n&nbsp\;
CATEGORIES:Camp
LOCATION:Camp Reynoldswood\, 621 Reynoldswood Road\, Dixon\, IL\, United St
 ates
GEO:41.8414612;-89.50958129999998
X-APPLE-STRUCTURED-LOCATION;VALUE=URI;X-ADDRESS=621 Reynoldswood Road\, Dix
 on\, IL\, United States;X-APPLE-RADIUS=100;X-TITLE=Camp Reynoldswood:geo:4
 1.8414612,-89.50958129999998
END:VEVENT
BEGIN:VTIMEZONE
TZID:America/Chicago
X-LIC-LOCATION:America/Chicago
BEGIN:DAYLIGHT
DTSTART:20190310T030000
TZOFFSETFROM:-0600
TZOFFSETTO:-0500
TZNAME:CDT
END:DAYLIGHT
END:VTIMEZONE
END:VCALENDAR