BEGIN:VCALENDAR
VERSION:2.0
PRODID:-//wp-events-plugin.com//7.2.3.1//EN
TZID:America/Chicago
X-WR-TIMEZONE:America/Chicago
BEGIN:VEVENT
UID:1262@dev.dscc.uic.edu
DTSTART;TZID=America/Chicago;VALUE=DATE:20190609
DTEND;TZID=America/Chicago;VALUE=DATE:20190610
DTSTAMP:20190409T150817Z
URL:https://dev.dscc.uic.edu/events/camp-little-giant-camp-olympia-i-2/
SUMMARY:Camp Little Giant - Camp Olympia I
DESCRIPTION:Camp for adults 21 and older with high-care needs\, low mobi
 lity or using a wheelchair on June 9-14.\n\nCamp Little Giant offers part
 icipants an eye-opening view of their own capabilities and the belief that
  they can increase their confidence and independence. It provides the opp
 ortunity for people with mental\, physical\, or cognitive disabilities to 
 get in touch with nature in a safe yet exciting manner.\n\nThe camp is loc
 ated on the shores of Little Grassy Lake near the Shawnee National Forest 
 with access to an outdoor playground full of adventure.\n\nCamp Little Gia
 nt's philosophy is to allow campers to develop a "can do" attitude. Thei
 r focus is for the camper to be an independent as possible while still fol
 lowing routines and providing necessary assistance.\n\nActivities include:
 \n\n 	Fishing\n 	Arts and crafts\n 	Horseback riding\n 	Boating\n 	Sports 
 and games\n 	Theater\n 	Swimming\n 	Dancing\n 	Hayrides\n 	Campfires\n\nCa
 mp Olympia Session I is for adults 21 and older with high-care needs\, lo
 w mobility or using a wheelchair. This session is from June 9 to 14.\n\nF
 or more information and to register\, visit the Camp Little Giant web
 site. You may also contact Vicki Lang\, camp director\, at vickil@siu.edu
  or (618)453-3950.
CATEGORIES:Camp
LOCATION:Touch of Nature Environmental Center\, 1206 Touch of Nature Road\,
  Makanda\, IL\, United States
GEO:37.6286416;-89.1624842
X-APPLE-STRUCTURED-LOCATION;VALUE=URI;X-ADDRESS=1206 Touch of Nature Road\,
  Makanda\, IL\, United States;X-APPLE-RADIUS=100;X-TITLE=Touch of Nature E
 nvironmental Center:geo:37.6286416,-89.1624842
END:VEVENT
BEGIN:VTIMEZONE
TZID:America/Chicago
X-LIC-LOCATION:America/Chicago
BEGIN:DAYLIGHT
DTSTART:20190310T030000
TZOFFSETFROM:-0600
TZOFFSETTO:-0500
TZNAME:CDT
END:DAYLIGHT
END:VTIMEZONE
END:VCALENDAR