BEGIN:VCALENDAR
VERSION:2.0
PRODID:-//wp-events-plugin.com//7.2.3.1//EN
TZID:America/Chicago
X-WR-TIMEZONE:America/Chicago
BEGIN:VEVENT
UID:1270@dev.dscc.uic.edu
DTSTART;TZID=America/Chicago;VALUE=DATE:20190728
DTEND;TZID=America/Chicago;VALUE=DATE:20190729
DTSTAMP:20190409T153228Z
URL:https://dev.dscc.uic.edu/events/camp-little-giant-dyna-camp/
SUMMARY:Camp Little Giant - Dyna Camp
DESCRIPTION:Camp for youth ages 8-19 with attention deficit hyperactivity 
 disorder and attention deficit disorder on July 28-Aug. 3.\n\nCamp Little 
 Giant offers participants an eye-opening view of their own capabilities an
 d the belief that they can increase their confidence and independence. It 
 provides the opportunity for people with mental\, physical\, or cognitive
  disabilities to get in touch with nature in a safe yet exciting manner.\n
 \nThe camp is located on the shores of Little Grassy Lake near the Shawnee
  National Forest with access to an outdoor playground full of adventure.\n
 \nCamp Little Giant's philosophy is to allow campers to develop a "can do
 " attitude. Their focus is for the camper to be an independent as possibl
 e while still following routines and providing necessary assistance.\n\nAc
 tivities include:\n\n 	Fishing\n 	Arts and crafts\n 	Horseback riding\n 	B
 oating\n 	Sports and games\n 	Theater\n 	Swimming\n 	Dancing\n 	Hayrides\n
  	Campfires\n\nThe Dyna Camp session is for youth ages 8-19 with attentio
 n deficit hyperactivity disorder and attention deficit disorder. This ses
 sion is from July 28-Aug. 3.\n\nFor more information and to register\, vi
 sit the Camp Little Giant website. You may also contact Vicki Lang\, 
 camp director\, at vickil@siu.edu or (618)453-3950.
CATEGORIES:Camp
LOCATION:Touch of Nature Environmental Center\, 1206 Touch of Nature Road\,
  Makanda\, IL\, United States
GEO:37.6286416;-89.1624842
X-APPLE-STRUCTURED-LOCATION;VALUE=URI;X-ADDRESS=1206 Touch of Nature Road\,
  Makanda\, IL\, United States;X-APPLE-RADIUS=100;X-TITLE=Touch of Nature E
 nvironmental Center:geo:37.6286416,-89.1624842
END:VEVENT
BEGIN:VTIMEZONE
TZID:America/Chicago
X-LIC-LOCATION:America/Chicago
BEGIN:DAYLIGHT
DTSTART:20190310T030000
TZOFFSETFROM:-0600
TZOFFSETTO:-0500
TZNAME:CDT
END:DAYLIGHT
END:VTIMEZONE
END:VCALENDAR