BEGIN:VCALENDAR
VERSION:2.0
PRODID:-//wp-events-plugin.com//7.2.3.1//EN
TZID:America/Chicago
X-WR-TIMEZONE:America/Chicago
BEGIN:VEVENT
UID:2158@dev.dscc.uic.edu
DTSTART;TZID=America/Chicago:20220620T083000
DTEND;TZID=America/Chicago:20220624T160000
DTSTAMP:20220407T141841Z
URL:https://dev.dscc.uic.edu/events/camp-little-giant-traditions-day-camp-
 in-makanda/
SUMMARY:Camp Little Giant - Traditions Day Camp in Makanda
DESCRIPTION:Camp Little Giant Traditions Day Camp is for youth ages 9-17 wi
 th cognitive\, developmental or physical disabilities who are independent 
 or need minimal assistance with daily needs\n\nCamp Little Giant is hostin
 g Traditions Day Camp on June 20-24 from 8:30 a.m.-4 p.m. at the Touch of 
 Nature Outdoor Center in Makanda.\n\nTraditions Day Camp provides campers 
 the opportunity to play and explore the outdoors while learning new skills
 . This session is for campers ages 9-17 who will participate in a variety 
 of activities\, including:\n\n 	Games\n 	Arts and crafts\n 	Hiking\n 	Ther
 apeutic drumming\n\nThe camper-to-staff ratio is 4:1. Participants must be
  independent or need only minimal assistance with eating\, toileting and m
 obility needs.\n\nThe cost is $400 per camper. For payment plan options or
  financial aid\, contact tonec@siu.edu or (618)453-1121.\n\nFor more infor
 mation and to register\, visit the Camp Little Giant website.
CATEGORIES:Camp
LOCATION:Touch of Nature Environmental Center\, 1206 Touch of Nature Road\,
  Makanda\, IL\, United States
GEO:37.6286416;-89.1624842
X-APPLE-STRUCTURED-LOCATION;VALUE=URI;X-ADDRESS=1206 Touch of Nature Road\,
  Makanda\, IL\, United States;X-APPLE-RADIUS=100;X-TITLE=Touch of Nature E
 nvironmental Center:geo:37.6286416,-89.1624842
END:VEVENT
BEGIN:VTIMEZONE
TZID:America/Chicago
X-LIC-LOCATION:America/Chicago
BEGIN:DAYLIGHT
DTSTART:20220313T030000
TZOFFSETFROM:-0600
TZOFFSETTO:-0500
TZNAME:CDT
END:DAYLIGHT
END:VTIMEZONE
END:VCALENDAR