BEGIN:VCALENDAR
VERSION:2.0
PRODID:-//wp-events-plugin.com//7.2.3.1//EN
TZID:America/Chicago
X-WR-TIMEZONE:America/Chicago
BEGIN:VEVENT
UID:3363@dev.dscc.uic.edu
DTSTART;TZID=America/Chicago;VALUE=DATE:20230605
DTEND;TZID=America/Chicago;VALUE=DATE:20230606
DTSTAMP:20230605T124841Z
URL:https://dev.dscc.uic.edu/events/camp-new-hope-overnight-camp-in-neoga/
SUMMARY:Camp New Hope Overnight Camp in Neoga
DESCRIPTION:A weeklong summer camp with day and overnight options for indiv
 iduals ages 8 and older with developmental and physical disabilities.\n\nC
 amp New Hope will host two overnight camp sessions in June on:\n\n 	June 1
 1 - 16\, Pirates and Princesses\n 	June 25 - 30\, Musicals Week\n\nCamp Ne
 w Hope activities are adapted to each camper's needs and include fishing\,
  pontoon boat rides\, swimming\, sports and tournaments. Other activities 
 include arts and crafts\, music and nature education.\n\nCamp wraps up eac
 h week with an award ceremony for campers\, families and caregivers.\n\nVi
 sit the Camp New Hope website for the complete camp schedule and more det
 ails.\n\nTo register\, contact Camp New Hope at (217) 895-2341 or visit th
 e "How to Become a Camper" page.
CATEGORIES:Camp
LOCATION:Camp New Hope\, 1364 County Road 100 East\, Neoga\, Illinois \, Un
 ited States
GEO:39.3685428;-88.45329909999998
X-APPLE-STRUCTURED-LOCATION;VALUE=URI;X-ADDRESS=1364 County Road 100 East\,
  Neoga\, Illinois \, United States;X-APPLE-RADIUS=100;X-TITLE=Camp New Hop
 e:geo:39.3685428,-88.45329909999998
END:VEVENT
BEGIN:VTIMEZONE
TZID:America/Chicago
X-LIC-LOCATION:America/Chicago
BEGIN:DAYLIGHT
DTSTART:20230312T030000
TZOFFSETFROM:-0600
TZOFFSETTO:-0500
TZNAME:CDT
END:DAYLIGHT
END:VTIMEZONE
END:VCALENDAR