BEGIN:VCALENDAR
VERSION:2.0
PRODID:-//wp-events-plugin.com//7.2.3.1//EN
TZID:America/Chicago
X-WR-TIMEZONE:America/Chicago
BEGIN:VEVENT
UID:1004@dev.dscc.uic.edu
DTSTART;TZID=America/Chicago;VALUE=DATE:20180715
DTEND;TZID=America/Chicago;VALUE=DATE:20180716
DTSTAMP:20180502T150240Z
URL:https://dev.dscc.uic.edu/events/camp-red-leaf-11-youth-session/
SUMMARY:Camp Red Leaf - 1:1 Youth Session
DESCRIPTION:Weeklong camp session for youth with complex medical needs.\n\n
 Camp Red Leaf offers the 1:1 Week for youth ages 9 to 22 with more ser
 ious conditions that require constant care.\n\nDuring this weeklong camp 
 session\, the ratio of camper to counselor is one-to-one. Attendees with
  more complex needs\, including those with a multiple diagnosis\, as well 
 as conditions with increased medical dependency\, are still able to enjoy 
 the great outdoors and all that summer camp has to offer.\n\nThe 1:1 You
 th Session is scheduled for July 15-20.\n\nVisit the Camp Red Leaf websi
 te for more information and to register.\n\n&nbsp\;
CATEGORIES:Camp
LOCATION:Camp Red Leaf\, 26710 W. Nippersink Road\, Ingleside\, IL\, United
  States
GEO:42.3571518;-88.15093939999997
X-APPLE-STRUCTURED-LOCATION;VALUE=URI;X-ADDRESS=26710 W. Nippersink Road\, 
 Ingleside\, IL\, United States;X-APPLE-RADIUS=100;X-TITLE=Camp Red Leaf:ge
 o:42.3571518,-88.15093939999997
END:VEVENT
BEGIN:VTIMEZONE
TZID:America/Chicago
X-LIC-LOCATION:America/Chicago
BEGIN:DAYLIGHT
DTSTART:20180311T030000
TZOFFSETFROM:-0600
TZOFFSETTO:-0500
TZNAME:CDT
END:DAYLIGHT
END:VTIMEZONE
END:VCALENDAR