BEGIN:VCALENDAR
VERSION:2.0
PRODID:-//wp-events-plugin.com//7.2.3.1//EN
TZID:America/Chicago
X-WR-TIMEZONE:America/Chicago
BEGIN:VEVENT
UID:2739@dev.dscc.uic.edu
DTSTART;TZID=America/Chicago:20221006T173000
DTEND;TZID=America/Chicago:20221006T183000
DTSTAMP:20221004T145115Z
URL:https://dev.dscc.uic.edu/events/casting-101-virtual-panel-for-performe
 rs-with-disabilities/
SUMMARY:"Casting 101" Virtual Panel for Performers With Disabilities
DESCRIPTION:&nbsp\;\n\nA free\, virtual event geared toward performers with
  disabilities starting out in the entertainment industry\n\nRespectAbility
  invites you to join CBS executives and special guest panelists for "Casti
 ng 101" on Oct. 6 beginning at 5:30 p.m.\n\nThroughout October\, RespectAb
 ility is hosting a series of virtual conversations and networking opportun
 ities celebrating National Disability Employment Awareness Month to advanc
 e disability representation in the entertainment industry.\n\nDo you dream
  of a career in the entertainment industry?\n\nThis virtual event is for p
 erformers with disabilities starting out in the industry and will help par
 ticipants learn how to:\n\n 	Seek representation\n 	Optimize headshots/res
 umes/demo reels\n 	Understand the casting process\n\nThere will also be a 
 question-and-answer session.\n\nRegister for "Casting 101."\n\nTwo America
 n Sign Language (ASL) interpreters will be available. Zoom captioning will
  be turned on.
CATEGORIES:Special Event,Webinar
END:VEVENT
BEGIN:VTIMEZONE
TZID:America/Chicago
X-LIC-LOCATION:America/Chicago
BEGIN:DAYLIGHT
DTSTART:20220313T030000
TZOFFSETFROM:-0600
TZOFFSETTO:-0500
TZNAME:CDT
END:DAYLIGHT
END:VTIMEZONE
END:VCALENDAR