BEGIN:VCALENDAR
VERSION:2.0
PRODID:-//wp-events-plugin.com//7.2.3.1//EN
TZID:America/Chicago
X-WR-TIMEZONE:America/Chicago
BEGIN:VEVENT
UID:2325@dev.dscc.uic.edu
DTSTART;TZID=America/Chicago;VALUE=DATE:20220819
DTEND;TZID=America/Chicago;VALUE=DATE:20220820
DTSTAMP:20220419T184445Z
URL:https://dev.dscc.uic.edu/events/chi-getaway-formerly-known-as-august-f
 amily-vacation-in-wisconsin/
SUMMARY:Chi Getaway (formerly known as August Family Vacation) in Wisconsin
DESCRIPTION:&nbsp\;\n\nAn opportunity for families to have fun and spend ti
 me together on the grounds of Camp Chi at Lake Delton near the Wisconsin D
 ells\n\nJCC Chicago is offering a Chi Getaway (formerly known as August Fa
 mily Vacation) from Aug. 19 to 21.\n\nGuests may stay in a cabin or at the
  Perlstein Retreat Center. Both options provide private living quarters an
 d bathrooms\, bedding\, pillows\, bath and pool towels.\n\nEnd the summer 
 with an all-inclusive\, stress-free getaway vacation packed with awesome a
 ctivities for families or just the adults. Whether you like to play tennis
  or relax by the pool\, there is something for everyone to enjoy. Special 
 programming is also available for Camp Chi alumni who want to relive the m
 agic and traditions of camp life.\n\nVisit the Chi Getaway website to make
  a reservation and get more information about cost and travel.\n\nFor ques
 tions\, contact (847) 763 - 3551 or retreats@jccchicago.org.\n\nInquiries 
 about discount pricing for groups who rent entire cabins should be directe
 d to Kyle Kolling at kkolling@jccchicago.org.
CATEGORIES:Camp
LOCATION:Camp Chi\, S1301 Clara Ave.\, Lake Delton\, WI\, United States
X-APPLE-STRUCTURED-LOCATION;VALUE=URI;X-ADDRESS=S1301 Clara Ave.\, Lake Del
 ton\, WI\, United States;X-APPLE-RADIUS=100;X-TITLE=Camp Chi:geo:0,0
END:VEVENT
BEGIN:VTIMEZONE
TZID:America/Chicago
X-LIC-LOCATION:America/Chicago
BEGIN:DAYLIGHT
DTSTART:20220313T030000
TZOFFSETFROM:-0600
TZOFFSETTO:-0500
TZNAME:CDT
END:DAYLIGHT
END:VTIMEZONE
END:VCALENDAR