BEGIN:VCALENDAR
VERSION:2.0
PRODID:-//wp-events-plugin.com//7.2.3.1//EN
TZID:America/Chicago
X-WR-TIMEZONE:America/Chicago
BEGIN:VEVENT
UID:4757@dev.dscc.uic.edu
DTSTART;TZID=America/Chicago:20250201T093000
DTEND;TZID=America/Chicago:20250201T110000
DTSTAMP:20250117T142022Z
URL:https://dev.dscc.uic.edu/events/chicago-childrens-theatre-access-perfo
 rmances-manual-cinemas-the-magic-city/
SUMMARY:Chicago Children's Theatre Access Performances - "Manual Cinema’s
  'The Magic City'"
DESCRIPTION:Accessible performances for children with disabilities and thei
 r families at the Chicago Children’s Theatre mainstage productions\n\nJo
 in the Chicago Children's Theater for a sensory-friendly performance of Ma
 nual Cinema’s "The Magic City" on Feb. 1 from 9:30 to 10:30 a.m.\n\nAcce
 ss performances will take place:\n\n 	Feb. 9 from 2 to 3 p.m. - Audio Desc
 ription and Touch Tour (you must buy tickets two weeks prior to the perfor
 mance)\n 	Feb. 15 from 9:30 to 10:30 a.m. - American Sign Language (ASL) a
 nd Open Captions from 9:30 to 10:30 a.m.\n\nThe Magic City is a magical co
 mbination of actors\, puppets\, miniatures and live music. The story encou
 rages kids to build bridges with family members and others\, not walls.\n\
 nIn The Magic City\, Philomena and her big sister\, Helen\, love building 
 miniature cities out of books\, toys and other found objects. Philomena's 
 adventures begin when she builds a magic city just for her and gets trappe
 d inside one magical night.\n\nWill Philomena find her way out and embrace
  her new family?\n\nThe performance is for children ages 7 and up.\n\nVisi
 t the Chicago Children's Theatre's website for more details about "Access 
 Weekends" and performance schedules.
CATEGORIES:Special Event
LOCATION:Chicago Children's Theatre\, 100 S. Racine Ave.\, Chicago\, Illino
 is\, 60607\, United States
X-APPLE-STRUCTURED-LOCATION;VALUE=URI;X-ADDRESS=100 S. Racine Ave.\, Chicag
 o\, Illinois\, 60607\, United States;X-APPLE-RADIUS=100;X-TITLE=Chicago Ch
 ildren's Theatre:geo:0,0
END:VEVENT
BEGIN:VTIMEZONE
TZID:America/Chicago
X-LIC-LOCATION:America/Chicago
BEGIN:STANDARD
DTSTART:20241103T010000
TZOFFSETFROM:-0500
TZOFFSETTO:-0600
TZNAME:CST
END:STANDARD
END:VTIMEZONE
END:VCALENDAR