BEGIN:VCALENDAR
VERSION:2.0
PRODID:-//wp-events-plugin.com//7.2.3.1//EN
TZID:America/Chicago
X-WR-TIMEZONE:America/Chicago
BEGIN:VEVENT
UID:2727@dev.dscc.uic.edu
DTSTART;TZID=America/Chicago:20230506T093000
DTEND;TZID=America/Chicago:20230507T113000
DTSTAMP:20230421T142930Z
URL:https://dev.dscc.uic.edu/events/chicago-childrens-theatre-access-weeke
 nd-the-very-hungry-caterpillar-show/
SUMMARY:Chicago Children's Theatre Access Weekend "The Very Hungry Caterpil
 lar Show"
DESCRIPTION:A weekend of accessible theater performances for children with 
 disabilities of all ages and their families\n\nJoin the Chicago Children
 ’s Theatre for their access weekend performances of  "The Very Hungry C
 aterpillar Show" on:\n\n 	Saturday\, May 6\n\n 	9:30 a.m. – American Sig
 n Language (ASL) Interpretation and Open Captions\n 	11:30 a.m. – Sensor
 y-Friendly\n\n\n 	Sunday\, May 7\n\n 	9:30 a.m. – Audio Description (Tou
 ch Tour upon request)\n 	11:30 a.m. – Sensory Friendly\n\n\n\nThe Very H
 ungry Caterpillar Show has been dazzling audiences around the globe for ov
 er five years\, faithfully bringing to the stage Eric Carle’s timeless c
 lassics. The critically acclaimed show features over 75 magical puppets\, 
 including the star of the show\, The Very Hungry Caterpillar.\n\nThe show 
 also features “Brown Bear\, Brown Bear”\, “10 Little Rubber Ducks”
  and “The Very Busy Spider.”\n\nVisit the theatre's website for more i
 nformation about Access Weekend performances.\n\nYou may buy tickets on th
 e theatre's website.
CATEGORIES:Special Event
LOCATION:Chicago Children's Theatre\, 100 S. Racine Ave.\, Chicago\, IL\, U
 nited States
X-APPLE-STRUCTURED-LOCATION;VALUE=URI;X-ADDRESS=100 S. Racine Ave.\, Chicag
 o\, IL\, United States;X-APPLE-RADIUS=100;X-TITLE=Chicago Children's Theat
 re:geo:0,0
END:VEVENT
BEGIN:VTIMEZONE
TZID:America/Chicago
X-LIC-LOCATION:America/Chicago
BEGIN:DAYLIGHT
DTSTART:20230312T030000
TZOFFSETFROM:-0600
TZOFFSETTO:-0500
TZNAME:CDT
END:DAYLIGHT
END:VTIMEZONE
END:VCALENDAR