BEGIN:VCALENDAR
VERSION:2.0
PRODID:-//wp-events-plugin.com//7.2.3.1//EN
TZID:America/Chicago
X-WR-TIMEZONE:America/Chicago
BEGIN:VEVENT
UID:3705@dev.dscc.uic.edu
DTSTART;TZID=America/Chicago;VALUE=DATE:20231125
DTEND;TZID=America/Chicago;VALUE=DATE:20231127
DTSTAMP:20231122T140824Z
URL:https://dev.dscc.uic.edu/events/chicago-childrens-theatre-accessible-w
 eekend-the-beatrix-potter-holiday-tea-party/
SUMMARY:Chicago Children's Theatre Accessible Weekend - "The Beatrix Potter
  Holiday Tea Party"
DESCRIPTION:A weekend of accessible performances for children with disabili
 ties and their families at the Chicago Children’s Theatre mainstage prod
 uctions\n\nJoin the Chicago Children’s Theatre for "The Beatrix Potter H
 oliday Tea Party"  access weekend performances on:\n\n 	Saturday\, Nov. 2
 5\n\n 	9:30 a.m. - Open captions\n 	11:30 a.m. – Audio description and t
 ouch tour\n\n\n 	Sunday\, Nov. 26\n\n 	9:30 a.m. –Sensory-friendly\n 	11
 :30 a.m. – American Sign Language (ASL) and open captions\n\n\n\nFour Be
 atrix Potter favorites will come to life in this mesmerizing\, interactive
  trunk and puppet show\, complete with original music.\n\nStorytellers int
 erweave the classic narration and guide gentle interactive moments\, recru
 iting young watchers to join the adventure. The show is for children up to
  age 8.\n\nAfter the show\, head to the lobby to:\n\n 	Play with the puppe
 ts\n 	Take pictures with the cast\n 	Enjoy a tea party featuring a festive
  spread of holiday treats\n\nYou can buy tickets online to attend.
CATEGORIES:Special Event
LOCATION:The Chicago Children's Theatre\, 100 S. Racine Ave.\, Chicago\, Il
 linois\, 60607\, United States
X-APPLE-STRUCTURED-LOCATION;VALUE=URI;X-ADDRESS=100 S. Racine Ave.\, Chicag
 o\, Illinois\, 60607\, United States;X-APPLE-RADIUS=100;X-TITLE=The Chicag
 o Children's Theatre:geo:0,0
END:VEVENT
BEGIN:VTIMEZONE
TZID:America/Chicago
X-LIC-LOCATION:America/Chicago
BEGIN:STANDARD
DTSTART:20231105T010000
TZOFFSETFROM:-0500
TZOFFSETTO:-0600
TZNAME:CST
END:STANDARD
END:VTIMEZONE
END:VCALENDAR