BEGIN:VCALENDAR
VERSION:2.0
PRODID:-//wp-events-plugin.com//7.2.3.1//EN
TZID:America/Chicago
X-WR-TIMEZONE:America/Chicago
BEGIN:VEVENT
UID:754@dev.dscc.uic.edu
DTSTART;TZID=America/Chicago:20170626T100000
DTEND;TZID=America/Chicago:20170626T160000
DTSTAMP:20170605T151157Z
URL:https://dev.dscc.uic.edu/events/chicago-park-district-special-recreati
 on-mann-park-camp/
SUMMARY:Chicago Park District Special Recreation Mann Park Camp
DESCRIPTION:Summer day camp for youth and teens ages 8 and up with disabi
 lities.\n\nThe Special Recreation Summer Mann Park Camp by the Chicago Par
 k District is a six-week program featuring: field trips\, fishing\, swimmi
 ng\, theme days and a variety of sport activities.\n\nMann Park camp is of
 fered June 26 - Aug. 4 from 10 a.m. to 4 p.m.\n\nRegister by calling (773)
  646-0009 or luis.Fuentes@chicagoparkdistrict.com.
CATEGORIES:Camp
LOCATION:Mann Park\, 3035 E 130th St\, Chicago\, United States
GEO:41.6591714;-87.54946100000001
X-APPLE-STRUCTURED-LOCATION;VALUE=URI;X-ADDRESS=3035 E 130th St\, Chicago\,
  United States;X-APPLE-RADIUS=100;X-TITLE=Mann Park:geo:41.6591714,-87.549
 46100000001
END:VEVENT
BEGIN:VTIMEZONE
TZID:America/Chicago
X-LIC-LOCATION:America/Chicago
BEGIN:DAYLIGHT
DTSTART:20170312T030000
TZOFFSETFROM:-0600
TZOFFSETTO:-0500
TZNAME:CDT
END:DAYLIGHT
END:VTIMEZONE
END:VCALENDAR