BEGIN:VCALENDAR
VERSION:2.0
PRODID:-//wp-events-plugin.com//7.2.3.1//EN
TZID:America/Chicago
X-WR-TIMEZONE:America/Chicago
BEGIN:VEVENT
UID:861@dev.dscc.uic.edu
DTSTART;TZID=America/Chicago:20171230T140000
DTEND;TZID=America/Chicago:20171230T140000
DTSTAMP:20171011T173616Z
URL:https://dev.dscc.uic.edu/events/chicago-sensory-friendly-performance-o
 f-a-christmas-carol/
SUMMARY:Chicago Sensory-Friendly Performance of A Christmas Carol
DESCRIPTION:Safe and family-friendly viewing experience for audience member
 s with autism and other disabilities.\n\nThe Goodman Theatre is partnering
  with Autism Speaks to launch its first-ever sensory-friendly/relaxed perf
 ormance of "A Christmas Carol." Experience this heartwarming tale of redem
 ption in a safe and friendly performing arts environment for families with
  members who have autism or other social\, cognitive and physical challeng
 es that create sensory sensitivities.\n\nTickets start at $15. To purchase
  tickets\, enter the promo code SENSORY here to unlock the special perform
 ance.
CATEGORIES:Special Event
LOCATION:Goodman Theatre\, 170 N Dearborn Street\, Chicago\, Illinois\, 606
 01\, United States
GEO:41.8851161;-87.6297391
X-APPLE-STRUCTURED-LOCATION;VALUE=URI;X-ADDRESS=170 N Dearborn Street\, Chi
 cago\, Illinois\, 60601\, United States;X-APPLE-RADIUS=100;X-TITLE=Goodman
  Theatre:geo:41.8851161,-87.6297391
END:VEVENT
BEGIN:VTIMEZONE
TZID:America/Chicago
X-LIC-LOCATION:America/Chicago
BEGIN:STANDARD
DTSTART:20171105T010000
TZOFFSETFROM:-0500
TZOFFSETTO:-0600
TZNAME:CST
END:STANDARD
END:VTIMEZONE
END:VCALENDAR