BEGIN:VCALENDAR
VERSION:2.0
PRODID:-//wp-events-plugin.com//7.2.3.1//EN
TZID:America/Chicago
X-WR-TIMEZONE:America/Chicago
BEGIN:VEVENT
UID:473@dev.dscc.uic.edu
DTSTART;TZID=America/Chicago:20151104T180000
DTEND;TZID=America/Chicago:20151104T190000
DTSTAMP:20150825T162803Z
URL:https://dev.dscc.uic.edu/events/child-development-webinar-5/
SUMMARY:Child Development Webinar
DESCRIPTION:&nbsp\;\n\nPromoting Social and Emotional Competence of Young C
 hildren:  Enhancing Emotional Literacy\n\nThis training will increase you
 r awareness of the kinds of interactions between adults and young children
  that support enhancing children’s emotional competency.\n\nTo register\
 , visit the University of Illinois Extension Website or call (309) 837-393
 9.
ATTACH;FMTTYPE=image/jpeg:https://dev.dscc.uic.edu/wp-content/uploads/2014
 /10/Fotolia_71695031_Webinar-crop.jpg
END:VEVENT
BEGIN:VTIMEZONE
TZID:America/Chicago
X-LIC-LOCATION:America/Chicago
BEGIN:STANDARD
DTSTART:20151101T010000
TZOFFSETFROM:-0500
TZOFFSETTO:-0600
TZNAME:CST
END:STANDARD
END:VTIMEZONE
END:VCALENDAR