BEGIN:VCALENDAR
VERSION:2.0
PRODID:-//wp-events-plugin.com//7.2.3.1//EN
TZID:America/Chicago
X-WR-TIMEZONE:America/Chicago
BEGIN:VEVENT
UID:1420@dev.dscc.uic.edu
DTSTART;TZID=America/Chicago:20200328T190000
DTEND;TZID=America/Chicago:20200328T190000
DTSTAMP:20200320T194352Z
URL:https://dev.dscc.uic.edu/events/chords-for-kids-a-concert-for-children
 -with-autism-in-naperville/
SUMMARY:Canceled: "Chords for Kids" - A Concert for Children with Autism in
  Naperville
DESCRIPTION:This event has been canceled.\n\nNorth Central College is hosti
 ng its 12th annual free concert for children with special needs at 7 p.m. 
 March 28 at Wentz Concert Hall in Naperville.\n\nThe music includes a rang
 e of classical pieces to popular tunes.\n\nThe event is free but requires 
 tickets.\n\nVisit the concert registration page to get tickets.
CATEGORIES:Special Event
LOCATION:Wentz Concert Hall\, 171 E. Chicago Ave.\, Naperville\, IL \, Unit
 ed States
GEO:41.772096;-88.14585
X-APPLE-STRUCTURED-LOCATION;VALUE=URI;X-ADDRESS=171 E. Chicago Ave.\, Naper
 ville\, IL \, United States;X-APPLE-RADIUS=100;X-TITLE=Wentz Concert Hall:
 geo:41.772096,-88.14585
END:VEVENT
BEGIN:VTIMEZONE
TZID:America/Chicago
X-LIC-LOCATION:America/Chicago
BEGIN:DAYLIGHT
DTSTART:20200308T030000
TZOFFSETFROM:-0600
TZOFFSETTO:-0500
TZNAME:CDT
END:DAYLIGHT
END:VTIMEZONE
END:VCALENDAR