BEGIN:VCALENDAR
VERSION:2.0
PRODID:-//wp-events-plugin.com//7.2.3.1//EN
TZID:America/Chicago
X-WR-TIMEZONE:America/Chicago
BEGIN:VEVENT
UID:1662@dev.dscc.uic.edu
DTSTART;TZID=America/Chicago:20210106T160000
DTEND;TZID=America/Chicago:20210106T173000
DTSTAMP:20201222T133914Z
URL:https://dev.dscc.uic.edu/events/deaf-and-hard-of-hearing-archery-in-ch
 icago-2/
SUMMARY:Deaf and Hard of Hearing Archery in Chicago
DESCRIPTION:Archery classes for individuals ages 10 and up with hearing los
 s\n\nThe Chicago Park District invites individuals with hearing loss ages 
 10 and up to participate in its Deaf and Hard of Hearing Archery Program a
 t Horner Park.\n\nClasses will take place on Wednesdays from 4 to 5:30 p.m
 . on Jan. 6 through March 17. (Please note there will be no program on Feb
 . 10.)\n\nThe archery class is held indoors. Masks are required.\n\nThere 
 is a $5 one-time fee to participate.\n\nYou can register online at www.ch
 icagoparkdistrict.com. Use activity code #324431.\n\nFor more information 
 about archery classes\, please contact Timothy Owens\, Special Recreation 
 Coordinator - Deaf &amp\; Hard of Hearing Programs\, at timothy.owens@chic
 agoparkdistrict.com or 312-339-4806 (text).\n\nJoin the Facebook group @ C
 hicago Park District Deaf &amp\; Hard of Hearing for more information abou
 t upcoming events.\n\nSee the event flyer for more details.\n
CATEGORIES:Class
LOCATION:Horner Park\, 2741 W. Montorse Avenue\, Chicago\, IL\, United Stat
 es
GEO:41.96055399999999;-87.69771029999998
X-APPLE-STRUCTURED-LOCATION;VALUE=URI;X-ADDRESS=2741 W. Montorse Avenue\, C
 hicago\, IL\, United States;X-APPLE-RADIUS=100;X-TITLE=Horner Park:geo:41.
 96055399999999,-87.69771029999998
END:VEVENT
BEGIN:VTIMEZONE
TZID:America/Chicago
X-LIC-LOCATION:America/Chicago
BEGIN:STANDARD
DTSTART:20201101T010000
TZOFFSETFROM:-0500
TZOFFSETTO:-0600
TZNAME:CST
END:STANDARD
END:VTIMEZONE
END:VCALENDAR