BEGIN:VCALENDAR
VERSION:2.0
PRODID:-//wp-events-plugin.com//7.2.3.1//EN
TZID:America/Chicago
X-WR-TIMEZONE:America/Chicago
BEGIN:VEVENT
UID:1076@dev.dscc.uic.edu
DTSTART;TZID=America/Chicago;VALUE=DATE:20180625
DTEND;TZID=America/Chicago;VALUE=DATE:20180626
DTSTAMP:20180626T214505Z
URL:https://dev.dscc.uic.edu/events/deaf-and-hard-of-hearing-camp-sign-tee
 n-leadership-at-gage-park/
SUMMARY:Deaf and Hard-of-Hearing Camp Sign Teen Leadership at Gage Park
DESCRIPTION:Summer day camp for deaf and hard-of-hearing high school stude
 nts.\n\nThe Chicago Park District invites deaf and hard-of-hearing high s
 chool students to Camp Sign Teen Leadership. Leadership skills\, creative 
 thinking and game play will be covered. Develop leadership\, leisure and o
 utdoors skills through a variety of arts and crafts\, swimming\, nature\, 
 game and visit different places in the city. Teambuilding games and creati
 ve thinking will be part of the program.\n\nCamp Sign Teen Leadership is 1
 2 p.m. to 6 p.m.  June 25 - Aug. 3 at Horner Park or Gage Park. Register
  for Camp Sign by contacting Timothy Owens at (773) 273-6617 or timothy.ow
 ens@chicagoparkdistrict.com.
CATEGORIES:Camp
LOCATION:Gage Park\, 2411 W. 55th St.\, Chicago\, IL\, United States
GEO:41.7935846;-87.6849628
X-APPLE-STRUCTURED-LOCATION;VALUE=URI;X-ADDRESS=2411 W. 55th St.\, Chicago\
 , IL\, United States;X-APPLE-RADIUS=100;X-TITLE=Gage Park:geo:41.7935846,-
 87.6849628
END:VEVENT
BEGIN:VTIMEZONE
TZID:America/Chicago
X-LIC-LOCATION:America/Chicago
BEGIN:DAYLIGHT
DTSTART:20180311T030000
TZOFFSETFROM:-0600
TZOFFSETTO:-0500
TZNAME:CDT
END:DAYLIGHT
END:VTIMEZONE
END:VCALENDAR