BEGIN:VCALENDAR
VERSION:2.0
PRODID:-//wp-events-plugin.com//7.2.3.1//EN
TZID:America/Chicago
X-WR-TIMEZONE:America/Chicago
BEGIN:VEVENT
UID:2177@dev.dscc.uic.edu
DTSTART;TZID=America/Chicago:20220320T120000
DTEND;TZID=America/Chicago:20220320T140000
DTSTAMP:20220315T174132Z
URL:https://dev.dscc.uic.edu/events/deaf-and-hard-of-hearing-family-bowlin
 g/
SUMMARY:Deaf and Hard of Hearing Family Bowling in Chicago
DESCRIPTION:A family bowling event for individuals who are deaf and hard of
  hearing and their families\n\nThe Chicago Park District Deaf and Hard of 
 Hearing Program invites families to bowl together on March 20 from 12 - 2 
 p.m.\n\nThe event will be held at Bluebird Lanes\, 3900 W. Columbus Ave.\,
  in Chicago.\n\nCome relax with friends and spend some family time togethe
 r bowling. Whether you bowl gutter balls or strikes\, it's sure to be a lo
 t of fun!\n\nThe cost is $8 per person and includes two hours of games and
  rental shoes.\n\nRegister on the Chicago Park District website by March 1
 1.\n\nFor more information or to register by email\, please contact Sarah 
 B. Faber at sarah.faber@chicagoparkdistrict.com or (312) 399-9574 (text on
 ly).
CATEGORIES:Special Event
LOCATION:Bluebird Lanes\, 3900 W Columbus Ave.\, Chicago\, IL\, 60652\, Uni
 ted States
X-APPLE-STRUCTURED-LOCATION;VALUE=URI;X-ADDRESS=3900 W Columbus Ave.\, Chic
 ago\, IL\, 60652\, United States;X-APPLE-RADIUS=100;X-TITLE=Bluebird Lanes
 :geo:0,0
END:VEVENT
BEGIN:VTIMEZONE
TZID:America/Chicago
X-LIC-LOCATION:America/Chicago
BEGIN:DAYLIGHT
DTSTART:20220313T030000
TZOFFSETFROM:-0600
TZOFFSETTO:-0500
TZNAME:CDT
END:DAYLIGHT
END:VTIMEZONE
END:VCALENDAR