BEGIN:VCALENDAR
VERSION:2.0
PRODID:-//wp-events-plugin.com//7.2.3.1//EN
TZID:America/Chicago
X-WR-TIMEZONE:America/Chicago
BEGIN:VEVENT
UID:2764@dev.dscc.uic.edu
DTSTART;TZID=America/Chicago:20221029T130000
DTEND;TZID=America/Chicago:20221029T160000
DTSTAMP:20221023T234628Z
URL:https://dev.dscc.uic.edu/events/deaf-deafblind-and-hard-of-hearing-hal
 loween-party-in-hoffman-estates/
SUMMARY:Deaf\, DeafBlind and Hard-of-Hearing Halloween Party in Hoffman Est
 ates
DESCRIPTION:The Chicago Hearing Society (CHS) Youth Connections Program is 
 hosting a Halloween Party on Oct. 29 from 1 to 4 p.m. at Schaumburg Townsh
 ip in Hoffman Estates.\n\nThis free event is for children who are Deaf\, D
 eafBlind or Hard of Hearing and their families.\n\nActivities will include
 :\n\n 	A costume contest\n 	American Sign Langauge (ASL) storytelling\n 	G
 ames\n 	Crafts\n 	Snacks\n\nPlease register online to attend. Though the e
 vent is free\, the township is also collecting food pantry donations.\n\nI
 f you have questions or concerns\, please contact Maddie Hinkle at CHSYout
 h@anixter.org or (312) 523-6400.
CATEGORIES:Special Event
LOCATION:Schaumburg Township\,  1 Illinois Boulevard\, Hoffman Estates\, IL
 \, United States
X-APPLE-STRUCTURED-LOCATION;VALUE=URI;X-ADDRESS= 1 Illinois Boulevard\, Hof
 fman Estates\, IL\, United States;X-APPLE-RADIUS=100;X-TITLE=Schaumburg To
 wnship:geo:0,0
END:VEVENT
BEGIN:VTIMEZONE
TZID:America/Chicago
X-LIC-LOCATION:America/Chicago
BEGIN:DAYLIGHT
DTSTART:20220313T030000
TZOFFSETFROM:-0600
TZOFFSETTO:-0500
TZNAME:CDT
END:DAYLIGHT
END:VTIMEZONE
END:VCALENDAR