BEGIN:VCALENDAR
VERSION:2.0
PRODID:-//wp-events-plugin.com//7.2.3.1//EN
TZID:America/Chicago
X-WR-TIMEZONE:America/Chicago
BEGIN:VEVENT
UID:1105@dev.dscc.uic.edu
DTSTART;TZID=America/Chicago:20180915T110000
DTEND;TZID=America/Chicago:20180915T150000
DTSTAMP:20180911T202600Z
URL:https://dev.dscc.uic.edu/events/disabilities-awareness-walk-and-resour
 ce-fair-in-chicago/
SUMMARY:Disabilities Awareness Walk and Resource Fair in Chicago
DESCRIPTION:Walk and health fair for parents\, children\, family members\,
  community members\, professionals\, educational staff\, etc. who are in
 volved in the care of extraordinary children.\n\nThe Second Annual United
  Communities for Diverse Abilities Walk and Resource Fair to increase awar
 eness is on Saturday\, Sept. 15\, from 11 a.m. to 3 p.m.  Participants ar
 e encouraged to wear a t-shirt representing a diagnosis. Be as inventive 
 and creative as you wish.  Stay after the walk to receive information on 
 therapy\, health and safety\, YMCA programs\, advocacy\, financial assista
 nce and much more.\n\nScheduled activities include:\n\n 	10 a.m. - Parent/
 Child Yoga - Multi-Purpose Room\n 	11 a.m. - Disability Awareness Walk - 2
 -3 laps around track\n 	12 p.m. to 3 p.m. - Resource Fair - Gym\n 	12 p.m.
  to 2 p.m. - IEP Training - Multi-Purpose Room\n\nThe event also features 
 a bounce house and free face painting.\n\nLimited healthy snacks and addit
 ional food for purchase will be available.\n\nOur Chicago staff will also 
 be available to explain our program and how we help connect children with 
 special healthcare needs to services and resources.
CATEGORIES:Health Fair,Special Event
LOCATION:Rowan Park\, 11546 S. Ave. L\, Chicago\, IL\, United States
GEO:41.6849586;-87.5373447
X-APPLE-STRUCTURED-LOCATION;VALUE=URI;X-ADDRESS=11546 S. Ave. L\, Chicago\,
  IL\, United States;X-APPLE-RADIUS=100;X-TITLE=Rowan Park:geo:41.6849586,-
 87.5373447
END:VEVENT
BEGIN:VTIMEZONE
TZID:America/Chicago
X-LIC-LOCATION:America/Chicago
BEGIN:DAYLIGHT
DTSTART:20180311T030000
TZOFFSETFROM:-0600
TZOFFSETTO:-0500
TZNAME:CDT
END:DAYLIGHT
END:VTIMEZONE
END:VCALENDAR