BEGIN:VCALENDAR
VERSION:2.0
PRODID:-//wp-events-plugin.com//7.2.3.1//EN
TZID:America/Chicago
X-WR-TIMEZONE:America/Chicago
BEGIN:VEVENT
UID:63@dev.dscc.uic.edu
DTSTART;TZID=America/Chicago:20141018T090000
DTEND;TZID=America/Chicago:20141018T140000
DTSTAMP:20141016T002414Z
URL:https://dev.dscc.uic.edu/events/disabilitiy-expo-saturday-october-18th
 /
SUMMARY:disABILITIY Expo
DESCRIPTION:The disABILITY Resource Expo has something for everyone.\n\nThi
 s free\, family-friendly event will showcase nearly 90 exhibitors sharing 
 information\, resources\, and technology\, all focused on improving the li
 ves of individuals with disabilities.\n\nThe entertainment stage will feat
 ure Chris Errera\, a young man born with diastrophic dwarfism\, who is an 
 accomplished concert pianist\, composer\, producer and motivational speake
 r.  Local musician\, Rod Sickler will also entertain the crowd\, and memb
 ers of the Jefferson Jaguars Archery Team will display their award-winning
  skills. The disABILITY Pride Room will feature more than 24 artists and e
 ntrepreneurs who will showcase and offer handmade items for sale.  The Ch
 ildren's Activity Area will have bounce houses\, games and lots of activit
 ies for children.\n\nVisitors will receive a copy of the 2014 Resource Boo
 k\, containing contact information for all Expo exhibitors.\n\nFor additio
 nal information\, visit the Expo website and Facebook page.
CATEGORIES:Health Fair
LOCATION:Fluid Event Center\, 601 N. Country Fair Drive\, Champaign \, IL\,
  61821\, United States
GEO:40.1208683;-88.28264860000001
X-APPLE-STRUCTURED-LOCATION;VALUE=URI;X-ADDRESS=601 N. Country Fair Drive\,
  Champaign \, IL\, 61821\, United States;X-APPLE-RADIUS=100;X-TITLE=Fluid 
 Event Center:geo:40.1208683,-88.28264860000001
END:VEVENT
BEGIN:VTIMEZONE
TZID:America/Chicago
X-LIC-LOCATION:America/Chicago
BEGIN:DAYLIGHT
DTSTART:20140309T030000
TZOFFSETFROM:-0600
TZOFFSETTO:-0500
TZNAME:CDT
END:DAYLIGHT
END:VTIMEZONE
END:VCALENDAR