BEGIN:VCALENDAR
VERSION:2.0
PRODID:-//wp-events-plugin.com//7.2.3.1//EN
TZID:America/Chicago
X-WR-TIMEZONE:America/Chicago
BEGIN:VEVENT
UID:1077@dev.dscc.uic.edu
DTSTART;TZID=America/Chicago:20180908T100000
DTEND;TZID=America/Chicago:20180908T170000
DTSTAMP:20180822T151913Z
URL:https://dev.dscc.uic.edu/events/downtown-springfield-family-funfest/
SUMMARY:Downtown Springfield Family Funfest
DESCRIPTION:One-of-a-kind festival designed specifically for children and f
 amilies.\n\nPrevent Child Abuse Illinois is proud to announce the 1st annu
 al Downtown Springfield Family FunFest. This one-of-a-kind festival is des
 igned specifically for children and families. Come on out to have a ton of
  fun and support the expansion of the various programs of Prevent Child Ab
 use Illinois throughout the entire state.\n\nThe event will include inflat
 able bounce houses and mazes\, a gaming trailer\, roving characters\, game
 s\, crafts and more. Main stage entertainment includes Magician Randy Kali
 n\, the Henson Robinson Zoo\, Springfield Dance Theatre\, Juggler Brain Pa
 nkey and more.\n\nTickets are $10 per person (children 2 and under are fre
 e).\n\nFamily Funfest is Saturday\, Sept. 8 from 10 a.m. to 5 p.m. in Spri
 ngfield on Washington Street between Fifth and Sixth streets.
CATEGORIES:Special Event
LOCATION:Downtown Springfield\, Washington Street\, Springfield\, IL\, Unit
 ed States
GEO:39.80168812228696;-89.64847354011266
X-APPLE-STRUCTURED-LOCATION;VALUE=URI;X-ADDRESS=Washington Street\, Springf
 ield\, IL\, United States;X-APPLE-RADIUS=100;X-TITLE=Downtown Springfield:
 geo:39.80168812228696,-89.64847354011266
END:VEVENT
BEGIN:VTIMEZONE
TZID:America/Chicago
X-LIC-LOCATION:America/Chicago
BEGIN:DAYLIGHT
DTSTART:20180311T030000
TZOFFSETFROM:-0600
TZOFFSETTO:-0500
TZNAME:CDT
END:DAYLIGHT
END:VTIMEZONE
END:VCALENDAR