BEGIN:VCALENDAR
VERSION:2.0
PRODID:-//wp-events-plugin.com//7.2.3.1//EN
TZID:America/Chicago
X-WR-TIMEZONE:America/Chicago
BEGIN:VEVENT
UID:3029@dev.dscc.uic.edu
DTSTART;TZID=America/Chicago:20230511T180000
DTEND;TZID=America/Chicago:20230511T190000
DTSTAMP:20230220T144255Z
URL:https://dev.dscc.uic.edu/events/dscc-serie-de-educativa-sobre-seguros-
 de-salud-apelaciones-de-seguros/
SUMMARY:DSCC Serie de Educativa Sobre Seguros de Salud: Apelaciones de Segu
 ros
DESCRIPTION:&nbsp\;\n\nÚnase a la División de Cuidados Especializados par
 a Niños (DSCC) para una serie de seminarios web educativos sobre temas im
 portantes de seguros de salud.\n\nEstas capacitaciones gratuitas ayudarán
  a las familias participantes de DSCC a navegar mejor por su cobertura y b
 eneficios de seguros médicos. El Equipo de Investigación y Administraci
 ón de Beneficios de DSCC explicará un tema diferente cada mes.\n\nCada s
 esión tendrá una presentación en inglés y en español.\n\nApelaciones 
 de Seguros:\n\n 	En inglés: 9 de mayo\, 6 p.m.\n 	En español: 11 de mayo
 \, 6 p.m.\n\nEsta capacitación cubrirá información sobre apelaciones de
  seguros de salud. Aprenderá qué hacer si su seguro no le aprueba un ser
 vicio. También aprenderá más sobre el proceso de apelación y cómo esc
 ribir una carta de apelación. Habrá ejemplos disponibles.\n\nRegístrese
  para este seminario web en español.\n\nCada sesión será grabada. Puede
  acceder a las grabaciones y materiales relacionados en nuestra página de
  Seminarios Web de Educación Familiar.
CATEGORIES:Training,Webinar
END:VEVENT
BEGIN:VTIMEZONE
TZID:America/Chicago
X-LIC-LOCATION:America/Chicago
BEGIN:DAYLIGHT
DTSTART:20230312T030000
TZOFFSETFROM:-0600
TZOFFSETTO:-0500
TZNAME:CDT
END:DAYLIGHT
END:VTIMEZONE
END:VCALENDAR