BEGIN:VCALENDAR
VERSION:2.0
PRODID:-//wp-events-plugin.com//7.2.3.1//EN
TZID:America/Chicago
X-WR-TIMEZONE:America/Chicago
BEGIN:VEVENT
UID:3027@dev.dscc.uic.edu
DTSTART;TZID=America/Chicago:20230308T180000
DTEND;TZID=America/Chicago:20230308T190000
DTSTAMP:20230220T143656Z
URL:https://dev.dscc.uic.edu/events/dscc-serie-de-educativa-sobre-seguros-
 de-salud-entendiendo-su-seguro/
SUMMARY:DSCC Serie de Educativa Sobre Seguros de Salud: Entendiendo su Segu
 ro
DESCRIPTION:&nbsp\;\n\nÚnase a la División de Cuidados Especializados par
 a Niños (DSCC) para una serie de seminarios web educativos sobre temas im
 portantes de seguros de salud.\n\nEstas capacitaciones gratuitas ayudarán
  a las familias participantes de DSCC a navegar mejor por su cobertura y b
 eneficios de seguros médicos. El Equipo de Investigación y Administraci
 ón de Beneficios de DSCC explicará un tema diferente cada mes.\n\nCada s
 esión tendrá una presentación en inglés y en español.\n\nEntendiendo 
 su Seguro\n\n 	En español: 8 de marzo\, 6 p.m.\n 	En inglés: 7 de marzo\
 , 6 p.m.\n\nEsta capacitación lo ayudará a entender su seguro de salud. 
 Les dará un vistazo a los tipos de planes de seguro y algunas palabras im
 portantes que debe saber. También aprenderá qué hacer si tiene muchos p
 lanes de seguro y cómo encontrar un doctor.\n\nRegístrese para este semi
 nario web en español.\n\nObtenga más detalles y regístrese para los pr
 óximos seminarios web en línea.
CATEGORIES:Training,Webinar
END:VEVENT
BEGIN:VTIMEZONE
TZID:America/Chicago
X-LIC-LOCATION:America/Chicago
BEGIN:STANDARD
DTSTART:20221106T010000
TZOFFSETFROM:-0500
TZOFFSETTO:-0600
TZNAME:CST
END:STANDARD
END:VTIMEZONE
END:VCALENDAR