BEGIN:VCALENDAR
VERSION:2.0
PRODID:-//wp-events-plugin.com//7.2.3.1//EN
TZID:America/Chicago
X-WR-TIMEZONE:America/Chicago
BEGIN:VEVENT
UID:767@dev.dscc.uic.edu
DTSTART;TZID=America/Chicago:20170617T100000
DTEND;TZID=America/Chicago:20170617T123000
DTSTAMP:20170613T155059Z
URL:https://dev.dscc.uic.edu/events/easter-seals-sensory-friendly-movie-in
 -rockford/
SUMMARY:Easter Seals Sensory-Friendly Movie in Rockford
DESCRIPTION:Cars 3 at the Rockford AMC Showplace 16.\n\nJoin the Easter Sea
 ls Metropolitan Chicago Rockford office for a sensory-friendly movie\, C
 ars 3. This event is free but registration is required and limited to imme
 diate family members only. Cars 3 will be showing at the Rockford AMC Show
 place 16 on June 17 at 10 a.m.\n\nRegister by calling Patti at (815) 956-5
 069\, ext. 1221.
CATEGORIES:Special Event
LOCATION:AMC Showplace 16\, 8301 E. State St\, Rockford\, IL\, United State
 s
GEO:42.2705655;-88.953145
X-APPLE-STRUCTURED-LOCATION;VALUE=URI;X-ADDRESS=8301 E. State St\, Rockford
 \, IL\, United States;X-APPLE-RADIUS=100;X-TITLE=AMC Showplace 16:geo:42.2
 705655,-88.953145
END:VEVENT
BEGIN:VTIMEZONE
TZID:America/Chicago
X-LIC-LOCATION:America/Chicago
BEGIN:DAYLIGHT
DTSTART:20170312T030000
TZOFFSETFROM:-0600
TZOFFSETTO:-0500
TZNAME:CDT
END:DAYLIGHT
END:VTIMEZONE
END:VCALENDAR