BEGIN:VCALENDAR
VERSION:2.0
PRODID:-//wp-events-plugin.com//7.2.3.1//EN
TZID:America/Chicago
X-WR-TIMEZONE:America/Chicago
BEGIN:VEVENT
UID:1039@dev.dscc.uic.edu
DTSTART;TZID=America/Chicago;VALUE=DATE:20180528
DTEND;TZID=America/Chicago;VALUE=DATE:20180529
DTSTAMP:20180510T171223Z
URL:https://dev.dscc.uic.edu/events/easterseals-adventure-day-camp/
SUMMARY:Easterseals Adventure Day Camp
DESCRIPTION:Day camp experience for children ages 5-16 with or without a di
 sability.\n\nTimber Pointe Outdoor Center\, owned and operated by Easterse
 als of Central Illinois\, offers inclusive summer programming for individu
 als with disabilities and illnesses in a fun\, safe and accessible environ
 ment.\n\nAdventure Day Camp is for children ages 5-16 with or without a di
 sability. This camp creates an inclusive environment where children with a
 ll ability levels can come together and learn that everyone is different a
 nd has something to offer. Adventure Day Camp is May 28 to Aug. 3.\n\nReg
 ister for this and other Easterseals camps on the Camper Registration site
 .
CATEGORIES:Camp
LOCATION:Timber Pointe Outdoor Center\, 20 Timber Pointe Drive\, Hudson\, I
 L\, 61748\, United States
GEO:40.6352794;-88.92011230000003
X-APPLE-STRUCTURED-LOCATION;VALUE=URI;X-ADDRESS=20 Timber Pointe Drive\, Hu
 dson\, IL\, 61748\, United States;X-APPLE-RADIUS=100;X-TITLE=Timber Pointe
  Outdoor Center:geo:40.6352794,-88.92011230000003
END:VEVENT
BEGIN:VTIMEZONE
TZID:America/Chicago
X-LIC-LOCATION:America/Chicago
BEGIN:DAYLIGHT
DTSTART:20180311T030000
TZOFFSETFROM:-0600
TZOFFSETTO:-0500
TZNAME:CDT
END:DAYLIGHT
END:VTIMEZONE
END:VCALENDAR