BEGIN:VCALENDAR
VERSION:2.0
PRODID:-//wp-events-plugin.com//7.2.3.1//EN
TZID:America/Chicago
X-WR-TIMEZONE:America/Chicago
BEGIN:VEVENT
UID:890@dev.dscc.uic.edu
DTSTART;TZID=America/Chicago:20171209T110000
DTEND;TZID=America/Chicago:20171209T140000
DTSTAMP:20171201T215052Z
URL:https://dev.dscc.uic.edu/events/easterseals-party-with-santa-in-rockfo
 rd/
SUMMARY:Easterseals Party with Santa in Rockford
DESCRIPTION:Holiday fun for families who have a child with a developmental 
 disability.\n\nJoin Family Support Services and Autism Home Support Servic
 es for a Christmas craft and lunch. Bring you list for Santa Claus and hav
 e your camera ready to take pictures.\n\nRegistration is required and limi
 ted to immediate family. To reserve your spot\, call Patti at (815) 965-50
 69\, ext. 10303\, or email pmook@eastersealschicago.org.\n\n&nbsp\;
CATEGORIES:Special Event
LOCATION:Easterseals\, 650 N. Main St.\, Rockford\, IL \, United States
GEO:42.2768603;-89.0904309
X-APPLE-STRUCTURED-LOCATION;VALUE=URI;X-ADDRESS=650 N. Main St.\, Rockford\
 , IL \, United States;X-APPLE-RADIUS=100;X-TITLE=Easterseals:geo:42.276860
 3,-89.0904309
END:VEVENT
BEGIN:VTIMEZONE
TZID:America/Chicago
X-LIC-LOCATION:America/Chicago
BEGIN:STANDARD
DTSTART:20171105T010000
TZOFFSETFROM:-0500
TZOFFSETTO:-0600
TZNAME:CST
END:STANDARD
END:VTIMEZONE
END:VCALENDAR