BEGIN:VCALENDAR
VERSION:2.0
PRODID:-//wp-events-plugin.com//7.2.3.1//EN
TZID:America/Chicago
X-WR-TIMEZONE:America/Chicago
BEGIN:VEVENT
UID:820@dev.dscc.uic.edu
DTSTART;TZID=America/Chicago;VALUE=DATE:20171006
DTEND;TZID=America/Chicago;VALUE=DATE:20171009
DTSTAMP:20170823T163104Z
URL:https://dev.dscc.uic.edu/events/easterseals-retreat-yourself/
SUMMARY:Easterseals Retreat Yourself
DESCRIPTION:Weekend retreat for mothers\, grandmothers and aunts of childre
 n with developmental disabilities\n\nEnjoy a relaxing weekend away with Fa
 mily Support Services at Easterseals in Rockford. The weekend provides an
  opportunity\, in a peaceful setting\, to meet other caregivers to form a 
 support network\, learn how to take care of yourself and have some fun!\n\
 nThe weekend includes a variety of indoor and outdoor activities.\n\nRegis
 tration is required and rooms are first-come\, first-served. Click here to
  register and learn more about the retreat.\n\n&nbsp\;
CATEGORIES:Retreat
LOCATION:Bishop Lane Retreat Center\, 7708 East McGregor Road\, Rockford\, 
 IL\, 61102\, United States
GEO:42.1900351;-89.18657459999997
X-APPLE-STRUCTURED-LOCATION;VALUE=URI;X-ADDRESS=7708 East McGregor Road\, R
 ockford\, IL\, 61102\, United States;X-APPLE-RADIUS=100;X-TITLE=Bishop Lan
 e Retreat Center:geo:42.1900351,-89.18657459999997
END:VEVENT
BEGIN:VTIMEZONE
TZID:America/Chicago
X-LIC-LOCATION:America/Chicago
BEGIN:DAYLIGHT
DTSTART:20170312T030000
TZOFFSETFROM:-0600
TZOFFSETTO:-0500
TZNAME:CDT
END:DAYLIGHT
END:VTIMEZONE
END:VCALENDAR