BEGIN:VCALENDAR
VERSION:2.0
PRODID:-//wp-events-plugin.com//7.2.3.1//EN
TZID:America/Chicago
X-WR-TIMEZONE:America/Chicago
BEGIN:VEVENT
UID:2106@dev.dscc.uic.edu
DTSTART;TZID=America/Chicago:20220808T080000
DTEND;TZID=America/Chicago:20220812T170000
DTSTAMP:20220418T220543Z
URL:https://dev.dscc.uic.edu/events/easterseals-timber-pointe-outdoor-cent
 ers-summer-day-camp-tpoc-tv-hudson-il/
SUMMARY:Easterseals Timber Pointe Outdoor Center's Summer Day Camp "TPOC-TV
 "- Hudson\, IL
DESCRIPTION:A day camp for kids ages 5 to 17 where all activities are compl
 etely adaptive for all abilities and center around a unique theme each wee
 k!\n\nEasterseals Timber Pointe Outdoor Center's (TPOC) Inclusive Adventur
 e Day Camp is for children and youth ages 5 to 17 with or without a disabi
 lity. Programming is designed for the developmental ages of 5 to 13.\n\n"T
 POC-TV" will be bringing some favorite shows to life for day campers joini
 ng TPOC on Aug. 8 to 12 from 8 a.m. - 5 p.m.\n\nThings will get real this 
 week as campers play and contend in TPOC spin-offs of reality TV show comp
 etitions! The TV-based fun will include:\n\n 	Completing Survivor-style ch
 allenges\n 	Becoming fashion designers in "Project Funway"\n 	Showing off 
 your skills in "TPOC's Got Talent"\n 	Whipping up tasty treats in "(Pie)-I
 ron Chef"\n 	Judging your favorite camp staff as they battle it out in "Da
 ncing with the (Camp) Stars!"\n\nEpic entertainment awaits\, so step away 
 from the screens and into the very real world of TPOC-TV!\n\nCampers will 
 also enjoy traditional camp activities such as swimming\, fishing\, boatin
 g\, arts and crafts\, target sports\, music and horseback riding.\n\nThe c
 ost is $335 per week. Discounts and financial assistance are available.\n\
 nThe 2022 flyer is available online with day and overnight camp session da
 tes and themes.\n\nTo register or for more information\, visit the TPOC 20
 22 Summer Camp website.
ATTACH;FMTTYPE=image/jpeg:https://dev.dscc.uic.edu/wp-content/uploads/2020
 /06/2b3a1e_35940ec80ee14b0ea273d97c72aa544bmv2.bmp
CATEGORIES:Camp
LOCATION:Timber Pointe Outdoor Center\, 20 Timber Pointe Lane\, Hudson\, Il
 linois\, United States
X-APPLE-STRUCTURED-LOCATION;VALUE=URI;X-ADDRESS=20 Timber Pointe Lane\, Hud
 son\, Illinois\, United States;X-APPLE-RADIUS=100;X-TITLE=Timber Pointe Ou
 tdoor Center:geo:0,0
END:VEVENT
BEGIN:VTIMEZONE
TZID:America/Chicago
X-LIC-LOCATION:America/Chicago
BEGIN:DAYLIGHT
DTSTART:20220313T030000
TZOFFSETFROM:-0600
TZOFFSETTO:-0500
TZNAME:CDT
END:DAYLIGHT
END:VTIMEZONE
END:VCALENDAR