BEGIN:VCALENDAR
VERSION:2.0
PRODID:-//wp-events-plugin.com//7.2.3.1//EN
TZID:America/Chicago
X-WR-TIMEZONE:America/Chicago
BEGIN:VEVENT
UID:1582@dev.dscc.uic.edu
DTSTART;TZID=America/Chicago:20200908T183000
DTEND;TZID=America/Chicago:20200908T200000
DTSTAMP:20200904T210026Z
URL:https://dev.dscc.uic.edu/events/effingham-area-virtual-resource-fair/
SUMMARY:Effingham Area Virtual Resource Fair
DESCRIPTION:&nbsp\;\n\nLearn about service providers for youth with disabil
 ities in the Effingham area\n\nThe Southern Illinois Transition Project pr
 esents the Effingham Area Transition Planning Committee Virtual Resource F
 air.\n\nThis webinar event is scheduled for 6:30 to 8 p.m. Sept. 8.\n\nEff
 ingham-area service providers will share what services are offered for you
 th with disabilities and how families can access them.\n\nRegistration is 
 online.
CATEGORIES:Resource Fair,Webinar
END:VEVENT
BEGIN:VTIMEZONE
TZID:America/Chicago
X-LIC-LOCATION:America/Chicago
BEGIN:DAYLIGHT
DTSTART:20200308T030000
TZOFFSETFROM:-0600
TZOFFSETTO:-0500
TZNAME:CDT
END:DAYLIGHT
END:VTIMEZONE
END:VCALENDAR