BEGIN:VCALENDAR
VERSION:2.0
PRODID:-//wp-events-plugin.com//7.2.3.1//EN
TZID:America/Chicago
X-WR-TIMEZONE:America/Chicago
BEGIN:VEVENT
UID:566@dev.dscc.uic.edu
DTSTART;TZID=America/Chicago:20160630T160000
DTEND;TZID=America/Chicago:20160630T190000
DTSTAMP:20160623T195711Z
URL:https://dev.dscc.uic.edu/events/elizabeth-ann-seton-carnival/
SUMMARY:Elizabeth Ann Seton Carnival
DESCRIPTION:A free family-fun event!\n\nTo celebrate 20 years of service to
  the community\, The Elizabeth Ann Seton Program invites you to enjoy a ca
 rnival. Activities include a cupcake walk\, games\, face painting and more
 . Treats including hot dogs\, cotton candy\, snow cones and popcorn are av
 ailable.\n\nFor more information\, call (217) 757-6025.
LOCATION:Elizabeth Ann Seton Program\, 700 N. 7th Street\, Springfield\, Il
 linois\, 62702\, United States
GEO:39.8084272;-89.64621439999996
X-APPLE-STRUCTURED-LOCATION;VALUE=URI;X-ADDRESS=700 N. 7th Street\, Springf
 ield\, Illinois\, 62702\, United States;X-APPLE-RADIUS=100;X-TITLE=Elizabe
 th Ann Seton Program:geo:39.8084272,-89.64621439999996
END:VEVENT
BEGIN:VTIMEZONE
TZID:America/Chicago
X-LIC-LOCATION:America/Chicago
BEGIN:DAYLIGHT
DTSTART:20160313T030000
TZOFFSETFROM:-0600
TZOFFSETTO:-0500
TZNAME:CDT
END:DAYLIGHT
END:VTIMEZONE
END:VCALENDAR