BEGIN:VCALENDAR
VERSION:2.0
PRODID:-//wp-events-plugin.com//7.2.3.1//EN
TZID:America/Chicago
X-WR-TIMEZONE:America/Chicago
BEGIN:VEVENT
UID:2578@dev.dscc.uic.edu
DTSTART;TZID=America/Chicago:20220902T130000
DTEND;TZID=America/Chicago:20220902T140000
DTSTAMP:20220810T164111Z
URL:https://dev.dscc.uic.edu/events/elks-free-orthopedic-clinic-for-childr
 en-and-youth-in-normal/
SUMMARY:Elks Free Orthopedic Clinic for Children and Youth in Normal
DESCRIPTION:A free orthopedic assessment clinic for children and youth with
  bone and joint development concerns\n\nThe Illinois Elks Children's Care 
 Corporation's free orthopedic clinic will be on Sept. 2 from 1 to 2 p.m.\n
 \nThe clinic is at Cortese Foot &amp\; Ankle Clinic\, 1607 Visa Dr.\, Suit
 e 5b\, in Normal.\n\nDr. Steven Yescheck will assess pediatric bone and jo
 int development. The clinic is for children and youth up to age 18. No med
 ical referral is necessary.\n\nConsider making an appointment if your chil
 d has:\n\n 	Feet pointing out or in\n 	Complains of back\, knee\, leg and/
 or ankle pain\n 	A back curvature\n\nPhysicians are welcome to refer patie
 nts to the clinic for a specific reason or second opinion.\n\nThere are no
  charges for any services performed at the clinic\, but an appointment is 
 required to be seen. To make an appointment\, call the Elks Children's Ca
 re Program at (800) 272-0074 on weekdays from 9 a.m. to 4 p.m.\n\nThe Elks
  provide 17 clinic locations throughout Illinois and offer financial assis
 tance to the best of their ability for children needing further treatment 
 or specialty equipment when the family lacks sufficient resources.
CATEGORIES:Clinic
LOCATION:Wabash General Hospital\, 1527 College Dr.\, Mt. Carmel\, IL\, 628
 63\, United States
X-APPLE-STRUCTURED-LOCATION;VALUE=URI;X-ADDRESS=1527 College Dr.\, Mt. Carm
 el\, IL\, 62863\, United States;X-APPLE-RADIUS=100;X-TITLE=Wabash General 
 Hospital:geo:0,0
END:VEVENT
BEGIN:VTIMEZONE
TZID:America/Chicago
X-LIC-LOCATION:America/Chicago
BEGIN:DAYLIGHT
DTSTART:20220313T030000
TZOFFSETFROM:-0600
TZOFFSETTO:-0500
TZNAME:CDT
END:DAYLIGHT
END:VTIMEZONE
END:VCALENDAR