BEGIN:VCALENDAR
VERSION:2.0
PRODID:-//wp-events-plugin.com//7.2.3.1//EN
TZID:America/Chicago
X-WR-TIMEZONE:America/Chicago
BEGIN:VEVENT
UID:813@dev.dscc.uic.edu
DTSTART;TZID=America/Chicago:20170822T100000
DTEND;TZID=America/Chicago:20170822T140000
DTSTAMP:20170817T213041Z
URL:https://dev.dscc.uic.edu/events/englewood-coalition-2nd-annual-back-to
 -school-fair/
SUMMARY:Englewood Coalition 2nd Annual Back-to-School Fair
DESCRIPTION:School physicals\, free haircuts\, community resources and scho
 ol supplies giveaway\n\nThe Englewood Coalition's second annual Back-to-Sc
 hool Fair is scheduled for Aug. 22 at the UI Health Mile Square Center in 
 Chicago.\n\nThe event includes a walk-in clinic for back-to-school physica
 ls\, which will be given on a first-come\, first-served basis and subject 
 to insurance approval.\n\nChildren can also receive free haircuts and ente
 r a school supplies giveaway (children must be present and accompanied by
  an adult). Face painting and information about community education resour
 ces will also be available.
CATEGORIES:Health Fair
LOCATION:UI Health Mile Square Center\, 641 W. 63rd St. \, Chicago\, IL \, 
 United States
GEO:41.7794703;-87.64144750000002
X-APPLE-STRUCTURED-LOCATION;VALUE=URI;X-ADDRESS=641 W. 63rd St. \, Chicago\
 , IL \, United States;X-APPLE-RADIUS=100;X-TITLE=UI Health Mile Square Cen
 ter:geo:41.7794703,-87.64144750000002
END:VEVENT
BEGIN:VTIMEZONE
TZID:America/Chicago
X-LIC-LOCATION:America/Chicago
BEGIN:DAYLIGHT
DTSTART:20170312T030000
TZOFFSETFROM:-0600
TZOFFSETTO:-0500
TZNAME:CDT
END:DAYLIGHT
END:VTIMEZONE
END:VCALENDAR