BEGIN:VCALENDAR
VERSION:2.0
PRODID:-//wp-events-plugin.com//7.2.3.1//EN
TZID:America/Chicago
X-WR-TIMEZONE:America/Chicago
BEGIN:VEVENT
UID:2666@dev.dscc.uic.edu
DTSTART;TZID=America/Chicago:20221004T100000
DTEND;TZID=America/Chicago:20221004T110000
DTSTAMP:20220913T144544Z
URL:https://dev.dscc.uic.edu/events/epilepsy-foundation-of-greater-souther
 n-illinois-caregiver-monthly-support-group-in-belleville/
SUMMARY:Epilepsy Foundation of Greater Southern Illinois Caregiver Monthly 
 Support Group in Belleville
DESCRIPTION:A monthly opportunity where caregivers of loved ones with epile
 psy can learn about resources and enjoy time together\n\nJoin the Epilepsy
  Foundation of Greater Southern Illinois and Epilepsy Foundation of Greate
 r Southern Illinois-Southern Region for their Caregiver Monthly Support Gr
 oup on Oct. 4 from 10 to 11 a.m.\n\nThe meeting is at The Epilepsy Foundat
 ion of Greater Southern Illinois office\, 3515 North Belt West\, in Bellev
 ille.\n\nThis meeting will focus on caregiving and activities in the commu
 nity.\n\nIt provides an opportunity to find epilepsy support and share and
  learn about different resources and options.\n\nSee the event flyer for m
 ore details.\n\nPlease RSVP to Elizabeth Daniels at (618) 236-2181\, ext. 
 109\, or elizabethd@epilepsygsil.org. Participants must register by Sept. 
 30.
CATEGORIES:Special Event,Support Group
LOCATION:Epilepsy Foundation of Greater Southern Illinois\, 3515 North Belt
  West\, Belleville\, IL\, 62226\, United States
X-APPLE-STRUCTURED-LOCATION;VALUE=URI;X-ADDRESS=3515 North Belt West\, Bell
 eville\, IL\, 62226\, United States;X-APPLE-RADIUS=100;X-TITLE=Epilepsy Fo
 undation of Greater Southern Illinois:geo:0,0
END:VEVENT
BEGIN:VTIMEZONE
TZID:America/Chicago
X-LIC-LOCATION:America/Chicago
BEGIN:DAYLIGHT
DTSTART:20220313T030000
TZOFFSETFROM:-0600
TZOFFSETTO:-0500
TZNAME:CDT
END:DAYLIGHT
END:VTIMEZONE
END:VCALENDAR