BEGIN:VCALENDAR
VERSION:2.0
PRODID:-//wp-events-plugin.com//7.2.3.1//EN
TZID:America/Chicago
X-WR-TIMEZONE:America/Chicago
BEGIN:VEVENT
UID:851@dev.dscc.uic.edu
DTSTART;TZID=America/Chicago:20171112T093000
DTEND;TZID=America/Chicago:20171112T113000
DTSTAMP:20171003T175437Z
URL:https://dev.dscc.uic.edu/events/everyone-at-play-at-kohl-childrens-mus
 eum-of-greater-chicago-2/
SUMMARY:"Everyone at Play" at Kohl Children's Museum of Greater Chicago
DESCRIPTION:A free morning of museum exploration for children with special 
 needs and their families.\n\nThe "Everyone at Play" event takes place at K
 ohl Children's Museum of Greater Chicago in Glenview from 9:30 to 11:30 a.
 m. on the following Sundays:\n\n 	Nov. 12\n 	Jan. 14\n 	Feb. 18\n 	May 20\
 n 	June 24\n\nDuring the event\, children and their families will have acc
 ess to all exhibits. Museum staff and volunteers will be available for pla
 y support and guidance.\n\nThe event will include a fun-filled morning of 
 museum exploration for children and families as well as a quiet room for 
 stimulation breaks. Rainbow Animal Assisted Therapy will be available for
  one-on-one sessions with the dogs and to answer any questions about dog s
 afety.\n\nSpace is limited and registration is required. To register and/o
 r ask questions\, please contact Cori O’Connell at (847) 832-6875 or coc
 onnell@kcmgc.org.\n\nKohl Children's Museum was specifically designed to b
 e inclusive of all children and adults. The museum's 17 exhibits and 2 acr
 es of outdoor explorations are designed for play with a purpose and encour
 age linguistic\, cognitive\, motor and social skills for children ages bir
 th through 8.
CATEGORIES:Special Event
LOCATION:Kohl Children's Museum of Greater Chicago\, 2100 Patriot Boulevard
 \, Glenview\, IL\, 60026\, United States
GEO:42.0935611;-87.82578469999999
X-APPLE-STRUCTURED-LOCATION;VALUE=URI;X-ADDRESS=2100 Patriot Boulevard\, Gl
 enview\, IL\, 60026\, United States;X-APPLE-RADIUS=100;X-TITLE=Kohl Childr
 en's Museum of Greater Chicago:geo:42.0935611,-87.82578469999999
END:VEVENT
BEGIN:VTIMEZONE
TZID:America/Chicago
X-LIC-LOCATION:America/Chicago
BEGIN:STANDARD
DTSTART:20171105T010000
TZOFFSETFROM:-0500
TZOFFSETTO:-0600
TZNAME:CST
END:STANDARD
END:VTIMEZONE
END:VCALENDAR