BEGIN:VCALENDAR
VERSION:2.0
PRODID:-//wp-events-plugin.com//7.2.3.1//EN
TZID:America/Chicago
X-WR-TIMEZONE:America/Chicago
BEGIN:VEVENT
UID:3648@dev.dscc.uic.edu
DTSTART;TZID=America/Chicago:20231014T130000
DTEND;TZID=America/Chicago:20231014T160000
DTSTAMP:20231005T180455Z
URL:https://dev.dscc.uic.edu/events/fall-family-fun-fest-for-families-with
 -children-with-hearing-loss-in-bloomington/
SUMMARY:Fall Family Fun Fest for Families with Children with Hearing Loss i
 n Bloomington
DESCRIPTION:A free and fun fall festival for families with children with he
 aring loss\n\nIllinois Hands &amp\; Voices/ Guide by Your Side (Manos &amp
 \; Voces de IL Un Guía A Su Lado) invites families with children with hea
 ring loss to the "Fall Family Fun Fest" on Oct. 14 from 1 to 4 p.m.\n\nFam
 ilies can enjoy:\n\n 	Picking pumpkins and painting\n 	Eating fall treats\
 n 	Laughing with the Deaf clowns\n\nThe event is for English and Spanish-s
 peaking families with children with hearing loss.\n\nSee the Fall Family F
 un Fest flyer for more details.\n\nRegister for the Fall Family Fun Fest o
 nline.
CATEGORIES:Special Event
LOCATION:Rollingbrook Park\, 1002 S. Hershey Rd.\, Bloomington\, Illinois\,
  61704\, United States
X-APPLE-STRUCTURED-LOCATION;VALUE=URI;X-ADDRESS=1002 S. Hershey Rd.\, Bloom
 ington\, Illinois\, 61704\, United States;X-APPLE-RADIUS=100;X-TITLE=Rolli
 ngbrook Park:geo:0,0
END:VEVENT
BEGIN:VTIMEZONE
TZID:America/Chicago
X-LIC-LOCATION:America/Chicago
BEGIN:DAYLIGHT
DTSTART:20230312T030000
TZOFFSETFROM:-0600
TZOFFSETTO:-0500
TZNAME:CDT
END:DAYLIGHT
END:VTIMEZONE
END:VCALENDAR